BEGIN:VCALENDAR
VERSION:2.0
PRODID:https://www.kufer.de/kuferweb / DE
METHOD:PUBLISH
CALSCALE:GREGORIAN
X-WR-TIMEZONE:Europe/Berlin
BEGIN:VTIMEZONE
TZID:Europe/Berlin
X-LIC-LOCATION:Europe/Berlin
BEGIN:DAYLIGHT
TZOFFSETFROM:+0100
TZOFFSETTO:+0200
TZNAME:CEST
DTSTART:19700329T020000
RRULE:FREQ=YEARLY;INTERVAL=1;BYDAY=-1SU;BYMONTH=3
END:DAYLIGHT
BEGIN:STANDARD
TZOFFSETFROM:+0200
TZOFFSETTO:+0100
TZNAME:CET
DTSTART:19701025T030000
RRULE:FREQ=YEARLY;INTERVAL=1;BYDAY=-1SU;BYMONTH=10
END:STANDARD
END:VTIMEZONE
BEGIN:VEVENT
DTSTAMP:20260424T032821
DTSTART;TZID=Europe/Berlin:20260619T170000
DTEND;TZID=Europe/Berlin:20260619T183000
UID:2613060304-20260619T170000@VHSRAUM BAD BOLL/VORALB
SUMMARY:Neuer Schwung für Geist und Körper - für Frauen im Lebensabschnitt 50 plus (2613060304) 
LOCATION:Begegnungsstätte "Treffpunkt", Hauptstraße 2, Dürnau, Hauptstraße 2, 73105 Dürnau
END:VEVENT
BEGIN:VEVENT
DTSTAMP:20260424T032821
DTSTART;TZID=Europe/Berlin:20260626T170000
DTEND;TZID=Europe/Berlin:20260626T174500
UID:2613060304-20260626T170000@VHSRAUM BAD BOLL/VORALB
SUMMARY:Neuer Schwung für Geist und Körper - für Frauen im Lebensabschnitt 50 plus (2613060304) 
LOCATION:Begegnungsstätte "Treffpunkt", Hauptstraße 2, Dürnau, Hauptstraße 2, 73105 Dürnau
END:VEVENT
BEGIN:VEVENT
DTSTAMP:20260424T032821
DTSTART;TZID=Europe/Berlin:20260703T170000
DTEND;TZID=Europe/Berlin:20260703T174500
UID:2613060304-20260703T170000@VHSRAUM BAD BOLL/VORALB
SUMMARY:Neuer Schwung für Geist und Körper - für Frauen im Lebensabschnitt 50 plus (2613060304) 
LOCATION:Begegnungsstätte "Treffpunkt", Hauptstraße 2, Dürnau, Hauptstraße 2, 73105 Dürnau
END:VEVENT
BEGIN:VEVENT
DTSTAMP:20260424T032821
DTSTART;TZID=Europe/Berlin:20260710T170000
DTEND;TZID=Europe/Berlin:20260710T183000
UID:2613060304-20260710T170000@VHSRAUM BAD BOLL/VORALB
SUMMARY:Neuer Schwung für Geist und Körper - für Frauen im Lebensabschnitt 50 plus (2613060304) 
LOCATION:Begegnungsstätte "Treffpunkt", Hauptstraße 2, Dürnau, Hauptstraße 2, 73105 Dürnau
END:VEVENT
END:VCALENDAR