BEGIN:VCALENDAR
VERSION:2.0
PRODID:https://www.kufer.de/kuferweb / DE
METHOD:PUBLISH
CALSCALE:GREGORIAN
X-WR-TIMEZONE:Europe/Berlin
BEGIN:VTIMEZONE
TZID:Europe/Berlin
X-LIC-LOCATION:Europe/Berlin
BEGIN:DAYLIGHT
TZOFFSETFROM:+0100
TZOFFSETTO:+0200
TZNAME:CEST
DTSTART:19700329T020000
RRULE:FREQ=YEARLY;INTERVAL=1;BYDAY=-1SU;BYMONTH=3
END:DAYLIGHT
BEGIN:STANDARD
TZOFFSETFROM:+0200
TZOFFSETTO:+0100
TZNAME:CET
DTSTART:19701025T030000
RRULE:FREQ=YEARLY;INTERVAL=1;BYDAY=-1SU;BYMONTH=10
END:STANDARD
END:VTIMEZONE
BEGIN:VEVENT
DTSTAMP:20260424T032309
DTSTART;TZID=Europe/Berlin:20260226T100000
DTEND;TZID=Europe/Berlin:20260226T113000
UID:2613060202-20260226T100000@VHSRAUM BAD BOLL/VORALB
SUMMARY:Ganzheitliches Gedächtnistraining - Mach mit - bleib fit (2613060202) 
LOCATION:Seniorenwohnanlage, Mehrzweckraum groß, Blumhardtweg 30, Bad Boll, Blumhardtweg 30, 73087 Bad Boll
END:VEVENT
BEGIN:VEVENT
DTSTAMP:20260424T032309
DTSTART;TZID=Europe/Berlin:20260305T100000
DTEND;TZID=Europe/Berlin:20260305T113000
UID:2613060202-20260305T100000@VHSRAUM BAD BOLL/VORALB
SUMMARY:Ganzheitliches Gedächtnistraining - Mach mit - bleib fit (2613060202) 
LOCATION:Seniorenwohnanlage, Mehrzweckraum groß, Blumhardtweg 30, Bad Boll, Blumhardtweg 30, 73087 Bad Boll
END:VEVENT
BEGIN:VEVENT
DTSTAMP:20260424T032309
DTSTART;TZID=Europe/Berlin:20260312T100000
DTEND;TZID=Europe/Berlin:20260312T113000
UID:2613060202-20260312T100000@VHSRAUM BAD BOLL/VORALB
SUMMARY:Ganzheitliches Gedächtnistraining - Mach mit - bleib fit (2613060202) 
LOCATION:Seniorenwohnanlage, Mehrzweckraum groß, Blumhardtweg 30, Bad Boll, Blumhardtweg 30, 73087 Bad Boll
END:VEVENT
BEGIN:VEVENT
DTSTAMP:20260424T032309
DTSTART;TZID=Europe/Berlin:20260319T100000
DTEND;TZID=Europe/Berlin:20260319T113000
UID:2613060202-20260319T100000@VHSRAUM BAD BOLL/VORALB
SUMMARY:Ganzheitliches Gedächtnistraining - Mach mit - bleib fit (2613060202) 
LOCATION:Seniorenwohnanlage, Mehrzweckraum groß, Blumhardtweg 30, Bad Boll, Blumhardtweg 30, 73087 Bad Boll
END:VEVENT
BEGIN:VEVENT
DTSTAMP:20260424T032309
DTSTART;TZID=Europe/Berlin:20260326T100000
DTEND;TZID=Europe/Berlin:20260326T113000
UID:2613060202-20260326T100000@VHSRAUM BAD BOLL/VORALB
SUMMARY:Ganzheitliches Gedächtnistraining - Mach mit - bleib fit (2613060202) 
LOCATION:Seniorenwohnanlage, Mehrzweckraum groß, Blumhardtweg 30, Bad Boll, Blumhardtweg 30, 73087 Bad Boll
END:VEVENT
BEGIN:VEVENT
DTSTAMP:20260424T032309
DTSTART;TZID=Europe/Berlin:20260416T100000
DTEND;TZID=Europe/Berlin:20260416T113000
UID:2613060202-20260416T100000@VHSRAUM BAD BOLL/VORALB
SUMMARY:Ganzheitliches Gedächtnistraining - Mach mit - bleib fit (2613060202) 
LOCATION:Seniorenwohnanlage, Mehrzweckraum groß, Blumhardtweg 30, Bad Boll, Blumhardtweg 30, 73087 Bad Boll
END:VEVENT
BEGIN:VEVENT
DTSTAMP:20260424T032309
DTSTART;TZID=Europe/Berlin:20260423T100000
DTEND;TZID=Europe/Berlin:20260423T113000
UID:2613060202-20260423T100000@VHSRAUM BAD BOLL/VORALB
SUMMARY:Ganzheitliches Gedächtnistraining - Mach mit - bleib fit (2613060202) 
LOCATION:Seniorenwohnanlage, Mehrzweckraum groß, Blumhardtweg 30, Bad Boll, Blumhardtweg 30, 73087 Bad Boll
END:VEVENT
BEGIN:VEVENT
DTSTAMP:20260424T032309
DTSTART;TZID=Europe/Berlin:20260430T100000
DTEND;TZID=Europe/Berlin:20260430T113000
UID:2613060202-20260430T100000@VHSRAUM BAD BOLL/VORALB
SUMMARY:Ganzheitliches Gedächtnistraining - Mach mit - bleib fit (2613060202) 
LOCATION:Seniorenwohnanlage, Mehrzweckraum groß, Blumhardtweg 30, Bad Boll, Blumhardtweg 30, 73087 Bad Boll
END:VEVENT
BEGIN:VEVENT
DTSTAMP:20260424T032309
DTSTART;TZID=Europe/Berlin:20260507T100000
DTEND;TZID=Europe/Berlin:20260507T113000
UID:2613060202-20260507T100000@VHSRAUM BAD BOLL/VORALB
SUMMARY:Ganzheitliches Gedächtnistraining - Mach mit - bleib fit (2613060202) 
LOCATION:Seniorenwohnanlage, Mehrzweckraum groß, Blumhardtweg 30, Bad Boll, Blumhardtweg 30, 73087 Bad Boll
END:VEVENT
BEGIN:VEVENT
DTSTAMP:20260424T032309
DTSTART;TZID=Europe/Berlin:20260521T100000
DTEND;TZID=Europe/Berlin:20260521T113000
UID:2613060202-20260521T100000@VHSRAUM BAD BOLL/VORALB
SUMMARY:Ganzheitliches Gedächtnistraining - Mach mit - bleib fit (2613060202) 
LOCATION:Seniorenwohnanlage, Mehrzweckraum groß, Blumhardtweg 30, Bad Boll, Blumhardtweg 30, 73087 Bad Boll
END:VEVENT
BEGIN:VEVENT
DTSTAMP:20260424T032309
DTSTART;TZID=Europe/Berlin:20260611T100000
DTEND;TZID=Europe/Berlin:20260611T113000
UID:2613060202-20260611T100000@VHSRAUM BAD BOLL/VORALB
SUMMARY:Ganzheitliches Gedächtnistraining - Mach mit - bleib fit (2613060202) 
LOCATION:Seniorenwohnanlage, Mehrzweckraum groß, Blumhardtweg 30, Bad Boll, Blumhardtweg 30, 73087 Bad Boll
END:VEVENT
BEGIN:VEVENT
DTSTAMP:20260424T032309
DTSTART;TZID=Europe/Berlin:20260618T100000
DTEND;TZID=Europe/Berlin:20260618T113000
UID:2613060202-20260618T100000@VHSRAUM BAD BOLL/VORALB
SUMMARY:Ganzheitliches Gedächtnistraining - Mach mit - bleib fit (2613060202) 
LOCATION:Seniorenwohnanlage, Mehrzweckraum groß, Blumhardtweg 30, Bad Boll, Blumhardtweg 30, 73087 Bad Boll
END:VEVENT
BEGIN:VEVENT
DTSTAMP:20260424T032309
DTSTART;TZID=Europe/Berlin:20260625T100000
DTEND;TZID=Europe/Berlin:20260625T113000
UID:2613060202-20260625T100000@VHSRAUM BAD BOLL/VORALB
SUMMARY:Ganzheitliches Gedächtnistraining - Mach mit - bleib fit (2613060202) 
LOCATION:Seniorenwohnanlage, Mehrzweckraum groß, Blumhardtweg 30, Bad Boll, Blumhardtweg 30, 73087 Bad Boll
END:VEVENT
BEGIN:VEVENT
DTSTAMP:20260424T032309
DTSTART;TZID=Europe/Berlin:20260702T100000
DTEND;TZID=Europe/Berlin:20260702T113000
UID:2613060202-20260702T100000@VHSRAUM BAD BOLL/VORALB
SUMMARY:Ganzheitliches Gedächtnistraining - Mach mit - bleib fit (2613060202) 
LOCATION:Seniorenwohnanlage, Mehrzweckraum groß, Blumhardtweg 30, Bad Boll, Blumhardtweg 30, 73087 Bad Boll
END:VEVENT
BEGIN:VEVENT
DTSTAMP:20260424T032309
DTSTART;TZID=Europe/Berlin:20260709T100000
DTEND;TZID=Europe/Berlin:20260709T113000
UID:2613060202-20260709T100000@VHSRAUM BAD BOLL/VORALB
SUMMARY:Ganzheitliches Gedächtnistraining - Mach mit - bleib fit (2613060202) 
LOCATION:Seniorenwohnanlage, Mehrzweckraum groß, Blumhardtweg 30, Bad Boll, Blumhardtweg 30, 73087 Bad Boll
END:VEVENT
BEGIN:VEVENT
DTSTAMP:20260424T032309
DTSTART;TZID=Europe/Berlin:20260716T100000
DTEND;TZID=Europe/Berlin:20260716T113000
UID:2613060202-20260716T100000@VHSRAUM BAD BOLL/VORALB
SUMMARY:Ganzheitliches Gedächtnistraining - Mach mit - bleib fit (2613060202) 
LOCATION:Seniorenwohnanlage, Mehrzweckraum groß, Blumhardtweg 30, Bad Boll, Blumhardtweg 30, 73087 Bad Boll
END:VEVENT
BEGIN:VEVENT
DTSTAMP:20260424T032309
DTSTART;TZID=Europe/Berlin:20260723T100000
DTEND;TZID=Europe/Berlin:20260723T113000
UID:2613060202-20260723T100000@VHSRAUM BAD BOLL/VORALB
SUMMARY:Ganzheitliches Gedächtnistraining - Mach mit - bleib fit (2613060202) 
LOCATION:Seniorenwohnanlage, Mehrzweckraum groß, Blumhardtweg 30, Bad Boll, Blumhardtweg 30, 73087 Bad Boll
END:VEVENT
BEGIN:VEVENT
DTSTAMP:20260424T032309
DTSTART;TZID=Europe/Berlin:20260730T100000
DTEND;TZID=Europe/Berlin:20260730T113000
UID:2613060202-20260730T100000@VHSRAUM BAD BOLL/VORALB
SUMMARY:Ganzheitliches Gedächtnistraining - Mach mit - bleib fit (2613060202) 
LOCATION:Seniorenwohnanlage, Mehrzweckraum groß, Blumhardtweg 30, Bad Boll, Blumhardtweg 30, 73087 Bad Boll
END:VEVENT
END:VCALENDAR