BEGIN:VCALENDAR
VERSION:2.0
PRODID:https://www.kufer.de/kuferweb / DE
METHOD:PUBLISH
CALSCALE:GREGORIAN
X-WR-TIMEZONE:Europe/Berlin
BEGIN:VTIMEZONE
TZID:Europe/Berlin
X-LIC-LOCATION:Europe/Berlin
BEGIN:DAYLIGHT
TZOFFSETFROM:+0100
TZOFFSETTO:+0200
TZNAME:CEST
DTSTART:19700329T020000
RRULE:FREQ=YEARLY;INTERVAL=1;BYDAY=-1SU;BYMONTH=3
END:DAYLIGHT
BEGIN:STANDARD
TZOFFSETFROM:+0200
TZOFFSETTO:+0100
TZNAME:CET
DTSTART:19701025T030000
RRULE:FREQ=YEARLY;INTERVAL=1;BYDAY=-1SU;BYMONTH=10
END:STANDARD
END:VTIMEZONE
BEGIN:VEVENT
DTSTAMP:20260421T085721
DTSTART;TZID=Europe/Berlin:20260224T083000
DTEND;TZID=Europe/Berlin:20260224T093000
UID:2613026620-20260224T083000@VHSRAUM BAD BOLL/VORALB
SUMMARY:Wirbelsäulengymnastik A (2613026620) 
LOCATION:Haus in der Breite, Gymnastikraum, Mörikestraße 55, Heiningen, Mörikestraße 55, 73092 Heiningen
END:VEVENT
BEGIN:VEVENT
DTSTAMP:20260421T085721
DTSTART;TZID=Europe/Berlin:20260310T083000
DTEND;TZID=Europe/Berlin:20260310T093000
UID:2613026620-20260310T083000@VHSRAUM BAD BOLL/VORALB
SUMMARY:Wirbelsäulengymnastik A (2613026620) 
LOCATION:Haus in der Breite, Gymnastikraum, Mörikestraße 55, Heiningen, Mörikestraße 55, 73092 Heiningen
END:VEVENT
BEGIN:VEVENT
DTSTAMP:20260421T085721
DTSTART;TZID=Europe/Berlin:20260317T083000
DTEND;TZID=Europe/Berlin:20260317T093000
UID:2613026620-20260317T083000@VHSRAUM BAD BOLL/VORALB
SUMMARY:Wirbelsäulengymnastik A (2613026620) 
LOCATION:Haus in der Breite, Gymnastikraum, Mörikestraße 55, Heiningen, Mörikestraße 55, 73092 Heiningen
END:VEVENT
BEGIN:VEVENT
DTSTAMP:20260421T085721
DTSTART;TZID=Europe/Berlin:20260324T083000
DTEND;TZID=Europe/Berlin:20260324T093000
UID:2613026620-20260324T083000@VHSRAUM BAD BOLL/VORALB
SUMMARY:Wirbelsäulengymnastik A (2613026620) 
LOCATION:Haus in der Breite, Gymnastikraum, Mörikestraße 55, Heiningen, Mörikestraße 55, 73092 Heiningen
END:VEVENT
BEGIN:VEVENT
DTSTAMP:20260421T085721
DTSTART;TZID=Europe/Berlin:20260331T083000
DTEND;TZID=Europe/Berlin:20260331T093000
UID:2613026620-20260331T083000@VHSRAUM BAD BOLL/VORALB
SUMMARY:Wirbelsäulengymnastik A (2613026620) 
LOCATION:Haus in der Breite, Gymnastikraum, Mörikestraße 55, Heiningen, Mörikestraße 55, 73092 Heiningen
END:VEVENT
BEGIN:VEVENT
DTSTAMP:20260421T085721
DTSTART;TZID=Europe/Berlin:20260407T083000
DTEND;TZID=Europe/Berlin:20260407T093000
UID:2613026620-20260407T083000@VHSRAUM BAD BOLL/VORALB
SUMMARY:Wirbelsäulengymnastik A (2613026620) 
LOCATION:Haus in der Breite, Gymnastikraum, Mörikestraße 55, Heiningen, Mörikestraße 55, 73092 Heiningen
END:VEVENT
BEGIN:VEVENT
DTSTAMP:20260421T085721
DTSTART;TZID=Europe/Berlin:20260414T083000
DTEND;TZID=Europe/Berlin:20260414T093000
UID:2613026620-20260414T083000@VHSRAUM BAD BOLL/VORALB
SUMMARY:Wirbelsäulengymnastik A (2613026620) 
LOCATION:Haus in der Breite, Gymnastikraum, Mörikestraße 55, Heiningen, Mörikestraße 55, 73092 Heiningen
END:VEVENT
BEGIN:VEVENT
DTSTAMP:20260421T085721
DTSTART;TZID=Europe/Berlin:20260421T083000
DTEND;TZID=Europe/Berlin:20260421T093000
UID:2613026620-20260421T083000@VHSRAUM BAD BOLL/VORALB
SUMMARY:Wirbelsäulengymnastik A (2613026620) 
LOCATION:Haus in der Breite, Gymnastikraum, Mörikestraße 55, Heiningen, Mörikestraße 55, 73092 Heiningen
END:VEVENT
BEGIN:VEVENT
DTSTAMP:20260421T085721
DTSTART;TZID=Europe/Berlin:20260428T083000
DTEND;TZID=Europe/Berlin:20260428T093000
UID:2613026620-20260428T083000@VHSRAUM BAD BOLL/VORALB
SUMMARY:Wirbelsäulengymnastik A (2613026620) 
LOCATION:Haus in der Breite, Gymnastikraum, Mörikestraße 55, Heiningen, Mörikestraße 55, 73092 Heiningen
END:VEVENT
BEGIN:VEVENT
DTSTAMP:20260421T085721
DTSTART;TZID=Europe/Berlin:20260505T083000
DTEND;TZID=Europe/Berlin:20260505T093000
UID:2613026620-20260505T083000@VHSRAUM BAD BOLL/VORALB
SUMMARY:Wirbelsäulengymnastik A (2613026620) 
LOCATION:Haus in der Breite, Gymnastikraum, Mörikestraße 55, Heiningen, Mörikestraße 55, 73092 Heiningen
END:VEVENT
BEGIN:VEVENT
DTSTAMP:20260421T085721
DTSTART;TZID=Europe/Berlin:20260512T083000
DTEND;TZID=Europe/Berlin:20260512T093000
UID:2613026620-20260512T083000@VHSRAUM BAD BOLL/VORALB
SUMMARY:Wirbelsäulengymnastik A (2613026620) 
LOCATION:Haus in der Breite, Gymnastikraum, Mörikestraße 55, Heiningen, Mörikestraße 55, 73092 Heiningen
END:VEVENT
BEGIN:VEVENT
DTSTAMP:20260421T085721
DTSTART;TZID=Europe/Berlin:20260519T083000
DTEND;TZID=Europe/Berlin:20260519T093000
UID:2613026620-20260519T083000@VHSRAUM BAD BOLL/VORALB
SUMMARY:Wirbelsäulengymnastik A (2613026620) 
LOCATION:Haus in der Breite, Gymnastikraum, Mörikestraße 55, Heiningen, Mörikestraße 55, 73092 Heiningen
END:VEVENT
BEGIN:VEVENT
DTSTAMP:20260421T085721
DTSTART;TZID=Europe/Berlin:20260526T083000
DTEND;TZID=Europe/Berlin:20260526T093000
UID:2613026620-20260526T083000@VHSRAUM BAD BOLL/VORALB
SUMMARY:Wirbelsäulengymnastik A (2613026620) 
LOCATION:Haus in der Breite, Gymnastikraum, Mörikestraße 55, Heiningen, Mörikestraße 55, 73092 Heiningen
END:VEVENT
BEGIN:VEVENT
DTSTAMP:20260421T085721
DTSTART;TZID=Europe/Berlin:20260602T083000
DTEND;TZID=Europe/Berlin:20260602T093000
UID:2613026620-20260602T083000@VHSRAUM BAD BOLL/VORALB
SUMMARY:Wirbelsäulengymnastik A (2613026620) 
LOCATION:Haus in der Breite, Gymnastikraum, Mörikestraße 55, Heiningen, Mörikestraße 55, 73092 Heiningen
END:VEVENT
BEGIN:VEVENT
DTSTAMP:20260421T085721
DTSTART;TZID=Europe/Berlin:20260609T083000
DTEND;TZID=Europe/Berlin:20260609T093000
UID:2613026620-20260609T083000@VHSRAUM BAD BOLL/VORALB
DESCRIPTION:Ersatz für Ausfall am 03.03.2026
SUMMARY:Wirbelsäulengymnastik A (2613026620) 
LOCATION:Haus in der Breite, Gymnastikraum, Mörikestraße 55, Heiningen, Mörikestraße 55, 73092 Heiningen
END:VEVENT
END:VCALENDAR