BEGIN:VCALENDAR
VERSION:2.0
PRODID:https://www.kufer.de/kuferweb / DE
METHOD:PUBLISH
CALSCALE:GREGORIAN
X-WR-TIMEZONE:Europe/Berlin
BEGIN:VTIMEZONE
TZID:Europe/Berlin
X-LIC-LOCATION:Europe/Berlin
BEGIN:DAYLIGHT
TZOFFSETFROM:+0100
TZOFFSETTO:+0200
TZNAME:CEST
DTSTART:19700329T020000
RRULE:FREQ=YEARLY;INTERVAL=1;BYDAY=-1SU;BYMONTH=3
END:DAYLIGHT
BEGIN:STANDARD
TZOFFSETFROM:+0200
TZOFFSETTO:+0100
TZNAME:CET
DTSTART:19701025T030000
RRULE:FREQ=YEARLY;INTERVAL=1;BYDAY=-1SU;BYMONTH=10
END:STANDARD
END:VTIMEZONE
BEGIN:VEVENT
DTSTAMP:20260422T040123
DTSTART;TZID=Europe/Berlin:20260224T200000
DTEND;TZID=Europe/Berlin:20260224T213000
UID:2613020721-20260224T200000@VHSRAUM BAD BOLL/VORALB
SUMMARY:Contemporary Dance Kurs (2613020721) 
LOCATION:Gemeindehalle, Gymnastikraum, Eingang seitlich, Schulstr.17, Zell, Schulstraße 17, 73119 Zell unter Aichelberg
END:VEVENT
BEGIN:VEVENT
DTSTAMP:20260422T040123
DTSTART;TZID=Europe/Berlin:20260303T200000
DTEND;TZID=Europe/Berlin:20260303T213000
UID:2613020721-20260303T200000@VHSRAUM BAD BOLL/VORALB
SUMMARY:Contemporary Dance Kurs (2613020721) 
LOCATION:Gemeindehalle, Gymnastikraum, Eingang seitlich, Schulstr.17, Zell, Schulstraße 17, 73119 Zell unter Aichelberg
END:VEVENT
BEGIN:VEVENT
DTSTAMP:20260422T040123
DTSTART;TZID=Europe/Berlin:20260310T200000
DTEND;TZID=Europe/Berlin:20260310T213000
UID:2613020721-20260310T200000@VHSRAUM BAD BOLL/VORALB
SUMMARY:Contemporary Dance Kurs (2613020721) 
LOCATION:Gemeindehalle, Gymnastikraum, Eingang seitlich, Schulstr.17, Zell, Schulstraße 17, 73119 Zell unter Aichelberg
END:VEVENT
BEGIN:VEVENT
DTSTAMP:20260422T040123
DTSTART;TZID=Europe/Berlin:20260317T200000
DTEND;TZID=Europe/Berlin:20260317T213000
UID:2613020721-20260317T200000@VHSRAUM BAD BOLL/VORALB
SUMMARY:Contemporary Dance Kurs (2613020721) 
LOCATION:Gemeindehalle, Gymnastikraum, Eingang seitlich, Schulstr.17, Zell, Schulstraße 17, 73119 Zell unter Aichelberg
END:VEVENT
BEGIN:VEVENT
DTSTAMP:20260422T040123
DTSTART;TZID=Europe/Berlin:20260324T200000
DTEND;TZID=Europe/Berlin:20260324T213000
UID:2613020721-20260324T200000@VHSRAUM BAD BOLL/VORALB
SUMMARY:Contemporary Dance Kurs (2613020721) 
LOCATION:Gemeindehalle, Gymnastikraum, Eingang seitlich, Schulstr.17, Zell, Schulstraße 17, 73119 Zell unter Aichelberg
END:VEVENT
BEGIN:VEVENT
DTSTAMP:20260422T040123
DTSTART;TZID=Europe/Berlin:20260414T200000
DTEND;TZID=Europe/Berlin:20260414T213000
UID:2613020721-20260414T200000@VHSRAUM BAD BOLL/VORALB
SUMMARY:Contemporary Dance Kurs (2613020721) 
LOCATION:Gemeindehalle, Gymnastikraum, Eingang seitlich, Schulstr.17, Zell, Schulstraße 17, 73119 Zell unter Aichelberg
END:VEVENT
BEGIN:VEVENT
DTSTAMP:20260422T040123
DTSTART;TZID=Europe/Berlin:20260421T200000
DTEND;TZID=Europe/Berlin:20260421T213000
UID:2613020721-20260421T200000@VHSRAUM BAD BOLL/VORALB
SUMMARY:Contemporary Dance Kurs (2613020721) 
LOCATION:Gemeindehalle, Gymnastikraum, Eingang seitlich, Schulstr.17, Zell, Schulstraße 17, 73119 Zell unter Aichelberg
END:VEVENT
BEGIN:VEVENT
DTSTAMP:20260422T040123
DTSTART;TZID=Europe/Berlin:20260428T200000
DTEND;TZID=Europe/Berlin:20260428T213000
UID:2613020721-20260428T200000@VHSRAUM BAD BOLL/VORALB
SUMMARY:Contemporary Dance Kurs (2613020721) 
LOCATION:Gemeindehalle, Gymnastikraum, Eingang seitlich, Schulstr.17, Zell, Schulstraße 17, 73119 Zell unter Aichelberg
END:VEVENT
BEGIN:VEVENT
DTSTAMP:20260422T040123
DTSTART;TZID=Europe/Berlin:20260505T200000
DTEND;TZID=Europe/Berlin:20260505T213000
UID:2613020721-20260505T200000@VHSRAUM BAD BOLL/VORALB
SUMMARY:Contemporary Dance Kurs (2613020721) 
LOCATION:Gemeindehalle, Gymnastikraum, Eingang seitlich, Schulstr.17, Zell, Schulstraße 17, 73119 Zell unter Aichelberg
END:VEVENT
BEGIN:VEVENT
DTSTAMP:20260422T040123
DTSTART;TZID=Europe/Berlin:20260512T200000
DTEND;TZID=Europe/Berlin:20260512T213000
UID:2613020721-20260512T200000@VHSRAUM BAD BOLL/VORALB
SUMMARY:Contemporary Dance Kurs (2613020721) 
LOCATION:Gemeindehalle, Gymnastikraum, Eingang seitlich, Schulstr.17, Zell, Schulstraße 17, 73119 Zell unter Aichelberg
END:VEVENT
BEGIN:VEVENT
DTSTAMP:20260422T040123
DTSTART;TZID=Europe/Berlin:20260609T200000
DTEND;TZID=Europe/Berlin:20260609T213000
UID:2613020721-20260609T200000@VHSRAUM BAD BOLL/VORALB
SUMMARY:Contemporary Dance Kurs (2613020721) 
LOCATION:Gemeindehalle, Gymnastikraum, Eingang seitlich, Schulstr.17, Zell, Schulstraße 17, 73119 Zell unter Aichelberg
END:VEVENT
BEGIN:VEVENT
DTSTAMP:20260422T040123
DTSTART;TZID=Europe/Berlin:20260616T200000
DTEND;TZID=Europe/Berlin:20260616T213000
UID:2613020721-20260616T200000@VHSRAUM BAD BOLL/VORALB
SUMMARY:Contemporary Dance Kurs (2613020721) 
LOCATION:Gemeindehalle, Gymnastikraum, Eingang seitlich, Schulstr.17, Zell, Schulstraße 17, 73119 Zell unter Aichelberg
END:VEVENT
BEGIN:VEVENT
DTSTAMP:20260422T040123
DTSTART;TZID=Europe/Berlin:20260623T200000
DTEND;TZID=Europe/Berlin:20260623T213000
UID:2613020721-20260623T200000@VHSRAUM BAD BOLL/VORALB
SUMMARY:Contemporary Dance Kurs (2613020721) 
LOCATION:Gemeindehalle, Gymnastikraum, Eingang seitlich, Schulstr.17, Zell, Schulstraße 17, 73119 Zell unter Aichelberg
END:VEVENT
BEGIN:VEVENT
DTSTAMP:20260422T040123
DTSTART;TZID=Europe/Berlin:20260630T200000
DTEND;TZID=Europe/Berlin:20260630T213000
UID:2613020721-20260630T200000@VHSRAUM BAD BOLL/VORALB
SUMMARY:Contemporary Dance Kurs (2613020721) 
LOCATION:Gemeindehalle, Gymnastikraum, Eingang seitlich, Schulstr.17, Zell, Schulstraße 17, 73119 Zell unter Aichelberg
END:VEVENT
BEGIN:VEVENT
DTSTAMP:20260422T040123
DTSTART;TZID=Europe/Berlin:20260707T200000
DTEND;TZID=Europe/Berlin:20260707T213000
UID:2613020721-20260707T200000@VHSRAUM BAD BOLL/VORALB
DESCRIPTION:Ersatz für Ausfall am 19.05.2026
SUMMARY:Contemporary Dance Kurs (2613020721) 
LOCATION:Gemeindehalle, Gymnastikraum, Eingang seitlich, Schulstr.17, Zell, Schulstraße 17, 73119 Zell unter Aichelberg
END:VEVENT
END:VCALENDAR