BEGIN:VCALENDAR
VERSION:2.0
PRODID:https://www.kufer.de/kuferweb / DE
METHOD:PUBLISH
CALSCALE:GREGORIAN
X-WR-TIMEZONE:Europe/Berlin
BEGIN:VTIMEZONE
TZID:Europe/Berlin
X-LIC-LOCATION:Europe/Berlin
BEGIN:DAYLIGHT
TZOFFSETFROM:+0100
TZOFFSETTO:+0200
TZNAME:CEST
DTSTART:19700329T020000
RRULE:FREQ=YEARLY;INTERVAL=1;BYDAY=-1SU;BYMONTH=3
END:DAYLIGHT
BEGIN:STANDARD
TZOFFSETFROM:+0200
TZOFFSETTO:+0100
TZNAME:CET
DTSTART:19701025T030000
RRULE:FREQ=YEARLY;INTERVAL=1;BYDAY=-1SU;BYMONTH=10
END:STANDARD
END:VTIMEZONE
BEGIN:VEVENT
DTSTAMP:20260419T181446
DTSTART;TZID=Europe/Berlin:20260417T080000
DTEND;TZID=Europe/Berlin:20260417T090000
UID:2613020330-20260417T080000@VHSRAUM BAD BOLL/VORALB
SUMMARY:50 + Outdoor – „aktiv in der Natur“ (2613020330) 
LOCATION:Outdooraktivspielplatz am Feuersee, Raubeckstraße, Dürnau, Raubeckstraße, 73105 Dürnau
END:VEVENT
BEGIN:VEVENT
DTSTAMP:20260419T181446
DTSTART;TZID=Europe/Berlin:20260424T080000
DTEND;TZID=Europe/Berlin:20260424T090000
UID:2613020330-20260424T080000@VHSRAUM BAD BOLL/VORALB
SUMMARY:50 + Outdoor – „aktiv in der Natur“ (2613020330) 
LOCATION:Outdooraktivspielplatz am Feuersee, Raubeckstraße, Dürnau, Raubeckstraße, 73105 Dürnau
END:VEVENT
BEGIN:VEVENT
DTSTAMP:20260419T181446
DTSTART;TZID=Europe/Berlin:20260508T080000
DTEND;TZID=Europe/Berlin:20260508T090000
UID:2613020330-20260508T080000@VHSRAUM BAD BOLL/VORALB
SUMMARY:50 + Outdoor – „aktiv in der Natur“ (2613020330) 
LOCATION:Outdooraktivspielplatz am Feuersee, Raubeckstraße, Dürnau, Raubeckstraße, 73105 Dürnau
END:VEVENT
BEGIN:VEVENT
DTSTAMP:20260419T181446
DTSTART;TZID=Europe/Berlin:20260522T080000
DTEND;TZID=Europe/Berlin:20260522T090000
UID:2613020330-20260522T080000@VHSRAUM BAD BOLL/VORALB
SUMMARY:50 + Outdoor – „aktiv in der Natur“ (2613020330) 
LOCATION:Outdooraktivspielplatz am Feuersee, Raubeckstraße, Dürnau, Raubeckstraße, 73105 Dürnau
END:VEVENT
BEGIN:VEVENT
DTSTAMP:20260419T181446
DTSTART;TZID=Europe/Berlin:20260612T080000
DTEND;TZID=Europe/Berlin:20260612T090000
UID:2613020330-20260612T080000@VHSRAUM BAD BOLL/VORALB
SUMMARY:50 + Outdoor – „aktiv in der Natur“ (2613020330) 
LOCATION:Outdooraktivspielplatz am Feuersee, Raubeckstraße, Dürnau, Raubeckstraße, 73105 Dürnau
END:VEVENT
BEGIN:VEVENT
DTSTAMP:20260419T181446
DTSTART;TZID=Europe/Berlin:20260619T080000
DTEND;TZID=Europe/Berlin:20260619T090000
UID:2613020330-20260619T080000@VHSRAUM BAD BOLL/VORALB
SUMMARY:50 + Outdoor – „aktiv in der Natur“ (2613020330) 
LOCATION:Outdooraktivspielplatz am Feuersee, Raubeckstraße, Dürnau, Raubeckstraße, 73105 Dürnau
END:VEVENT
END:VCALENDAR