BEGIN:VCALENDAR
VERSION:2.0
PRODID:https://www.kufer.de/kuferweb / DE
METHOD:PUBLISH
CALSCALE:GREGORIAN
X-WR-TIMEZONE:Europe/Berlin
BEGIN:VTIMEZONE
TZID:Europe/Berlin
X-LIC-LOCATION:Europe/Berlin
BEGIN:DAYLIGHT
TZOFFSETFROM:+0100
TZOFFSETTO:+0200
TZNAME:CEST
DTSTART:19700329T020000
RRULE:FREQ=YEARLY;INTERVAL=1;BYDAY=-1SU;BYMONTH=3
END:DAYLIGHT
BEGIN:STANDARD
TZOFFSETFROM:+0200
TZOFFSETTO:+0100
TZNAME:CET
DTSTART:19701025T030000
RRULE:FREQ=YEARLY;INTERVAL=1;BYDAY=-1SU;BYMONTH=10
END:STANDARD
END:VTIMEZONE
BEGIN:VEVENT
DTSTAMP:20260421T083957
DTSTART;TZID=Europe/Berlin:20260223T191500
DTEND;TZID=Europe/Berlin:20260223T201500
UID:2613020220-20260223T191500@VHSRAUM BAD BOLL/VORALB
SUMMARY:Drums Alive® - Trommeln auf Pezzibällen für Jugendliche und Erwachsene (2613020220) 
LOCATION:Heinrich-Schickhardt-Schule, neue Sporthalle, Schulweg 1, Schulweg 1, 73087 Bad Boll
END:VEVENT
BEGIN:VEVENT
DTSTAMP:20260421T083957
DTSTART;TZID=Europe/Berlin:20260302T191500
DTEND;TZID=Europe/Berlin:20260302T201500
UID:2613020220-20260302T191500@VHSRAUM BAD BOLL/VORALB
SUMMARY:Drums Alive® - Trommeln auf Pezzibällen für Jugendliche und Erwachsene (2613020220) 
LOCATION:Heinrich-Schickhardt-Schule, neue Sporthalle, Schulweg 1, Schulweg 1, 73087 Bad Boll
END:VEVENT
BEGIN:VEVENT
DTSTAMP:20260421T083957
DTSTART;TZID=Europe/Berlin:20260309T191500
DTEND;TZID=Europe/Berlin:20260309T201500
UID:2613020220-20260309T191500@VHSRAUM BAD BOLL/VORALB
SUMMARY:Drums Alive® - Trommeln auf Pezzibällen für Jugendliche und Erwachsene (2613020220) 
LOCATION:Heinrich-Schickhardt-Schule, neue Sporthalle, Schulweg 1, Schulweg 1, 73087 Bad Boll
END:VEVENT
BEGIN:VEVENT
DTSTAMP:20260421T083957
DTSTART;TZID=Europe/Berlin:20260323T191500
DTEND;TZID=Europe/Berlin:20260323T201500
UID:2613020220-20260323T191500@VHSRAUM BAD BOLL/VORALB
SUMMARY:Drums Alive® - Trommeln auf Pezzibällen für Jugendliche und Erwachsene (2613020220) 
LOCATION:Heinrich-Schickhardt-Schule, neue Sporthalle, Schulweg 1, Schulweg 1, 73087 Bad Boll
END:VEVENT
BEGIN:VEVENT
DTSTAMP:20260421T083957
DTSTART;TZID=Europe/Berlin:20260413T191500
DTEND;TZID=Europe/Berlin:20260413T201500
UID:2613020220-20260413T191500@VHSRAUM BAD BOLL/VORALB
SUMMARY:Drums Alive® - Trommeln auf Pezzibällen für Jugendliche und Erwachsene (2613020220) 
LOCATION:Heinrich-Schickhardt-Schule, neue Sporthalle, Schulweg 1, Schulweg 1, 73087 Bad Boll
END:VEVENT
BEGIN:VEVENT
DTSTAMP:20260421T083957
DTSTART;TZID=Europe/Berlin:20260420T191500
DTEND;TZID=Europe/Berlin:20260420T201500
UID:2613020220-20260420T191500@VHSRAUM BAD BOLL/VORALB
SUMMARY:Drums Alive® - Trommeln auf Pezzibällen für Jugendliche und Erwachsene (2613020220) 
LOCATION:Heinrich-Schickhardt-Schule, neue Sporthalle, Schulweg 1, Schulweg 1, 73087 Bad Boll
END:VEVENT
BEGIN:VEVENT
DTSTAMP:20260421T083957
DTSTART;TZID=Europe/Berlin:20260504T191500
DTEND;TZID=Europe/Berlin:20260504T201500
UID:2613020220-20260504T191500@VHSRAUM BAD BOLL/VORALB
SUMMARY:Drums Alive® - Trommeln auf Pezzibällen für Jugendliche und Erwachsene (2613020220) 
LOCATION:Heinrich-Schickhardt-Schule, neue Sporthalle, Schulweg 1, Schulweg 1, 73087 Bad Boll
END:VEVENT
BEGIN:VEVENT
DTSTAMP:20260421T083957
DTSTART;TZID=Europe/Berlin:20260511T191500
DTEND;TZID=Europe/Berlin:20260511T201500
UID:2613020220-20260511T191500@VHSRAUM BAD BOLL/VORALB
SUMMARY:Drums Alive® - Trommeln auf Pezzibällen für Jugendliche und Erwachsene (2613020220) 
LOCATION:Heinrich-Schickhardt-Schule, neue Sporthalle, Schulweg 1, Schulweg 1, 73087 Bad Boll
END:VEVENT
BEGIN:VEVENT
DTSTAMP:20260421T083957
DTSTART;TZID=Europe/Berlin:20260615T191500
DTEND;TZID=Europe/Berlin:20260615T201500
UID:2613020220-20260615T191500@VHSRAUM BAD BOLL/VORALB
SUMMARY:Drums Alive® - Trommeln auf Pezzibällen für Jugendliche und Erwachsene (2613020220) 
LOCATION:Heinrich-Schickhardt-Schule, neue Sporthalle, Schulweg 1, Schulweg 1, 73087 Bad Boll
END:VEVENT
BEGIN:VEVENT
DTSTAMP:20260421T083957
DTSTART;TZID=Europe/Berlin:20260622T191500
DTEND;TZID=Europe/Berlin:20260622T201500
UID:2613020220-20260622T191500@VHSRAUM BAD BOLL/VORALB
SUMMARY:Drums Alive® - Trommeln auf Pezzibällen für Jugendliche und Erwachsene (2613020220) 
LOCATION:Heinrich-Schickhardt-Schule, neue Sporthalle, Schulweg 1, Schulweg 1, 73087 Bad Boll
END:VEVENT
END:VCALENDAR