BEGIN:VCALENDAR
VERSION:2.0
PRODID:https://www.kufer.de/kuferweb / DE
METHOD:PUBLISH
CALSCALE:GREGORIAN
X-WR-TIMEZONE:Europe/Berlin
BEGIN:VTIMEZONE
TZID:Europe/Berlin
X-LIC-LOCATION:Europe/Berlin
BEGIN:DAYLIGHT
TZOFFSETFROM:+0100
TZOFFSETTO:+0200
TZNAME:CEST
DTSTART:19700329T020000
RRULE:FREQ=YEARLY;INTERVAL=1;BYDAY=-1SU;BYMONTH=3
END:DAYLIGHT
BEGIN:STANDARD
TZOFFSETFROM:+0200
TZOFFSETTO:+0100
TZNAME:CET
DTSTART:19701025T030000
RRULE:FREQ=YEARLY;INTERVAL=1;BYDAY=-1SU;BYMONTH=10
END:STANDARD
END:VTIMEZONE
BEGIN:VEVENT
DTSTAMP:20260421T070217
DTSTART;TZID=Europe/Berlin:20260223T161000
DTEND;TZID=Europe/Berlin:20260223T173500
UID:2613016610-20260223T161000@VHSRAUM BAD BOLL/VORALB
SUMMARY:Tanken Sie Ihre Ressourcen durch Yoga neu auf! Für Anfänger und Fortgeschrittene (2613016610) 
LOCATION:Ernst-Weichel-Schule, Gymnastik, Bezgenrieter Straße 11, Heiningen, Bezgenrieter Straße 11, 73092 Heiningen
END:VEVENT
BEGIN:VEVENT
DTSTAMP:20260421T070217
DTSTART;TZID=Europe/Berlin:20260309T161000
DTEND;TZID=Europe/Berlin:20260309T173500
UID:2613016610-20260309T161000@VHSRAUM BAD BOLL/VORALB
SUMMARY:Tanken Sie Ihre Ressourcen durch Yoga neu auf! Für Anfänger und Fortgeschrittene (2613016610) 
LOCATION:Ernst-Weichel-Schule, Gymnastik, Bezgenrieter Straße 11, Heiningen, Bezgenrieter Straße 11, 73092 Heiningen
END:VEVENT
BEGIN:VEVENT
DTSTAMP:20260421T070217
DTSTART;TZID=Europe/Berlin:20260316T161000
DTEND;TZID=Europe/Berlin:20260316T173500
UID:2613016610-20260316T161000@VHSRAUM BAD BOLL/VORALB
SUMMARY:Tanken Sie Ihre Ressourcen durch Yoga neu auf! Für Anfänger und Fortgeschrittene (2613016610) 
LOCATION:Ernst-Weichel-Schule, Gymnastik, Bezgenrieter Straße 11, Heiningen, Bezgenrieter Straße 11, 73092 Heiningen
END:VEVENT
BEGIN:VEVENT
DTSTAMP:20260421T070217
DTSTART;TZID=Europe/Berlin:20260323T161000
DTEND;TZID=Europe/Berlin:20260323T173500
UID:2613016610-20260323T161000@VHSRAUM BAD BOLL/VORALB
SUMMARY:Tanken Sie Ihre Ressourcen durch Yoga neu auf! Für Anfänger und Fortgeschrittene (2613016610) 
LOCATION:Ernst-Weichel-Schule, Gymnastik, Bezgenrieter Straße 11, Heiningen, Bezgenrieter Straße 11, 73092 Heiningen
END:VEVENT
BEGIN:VEVENT
DTSTAMP:20260421T070217
DTSTART;TZID=Europe/Berlin:20260413T161000
DTEND;TZID=Europe/Berlin:20260413T173500
UID:2613016610-20260413T161000@VHSRAUM BAD BOLL/VORALB
SUMMARY:Tanken Sie Ihre Ressourcen durch Yoga neu auf! Für Anfänger und Fortgeschrittene (2613016610) 
LOCATION:Ernst-Weichel-Schule, Gymnastik, Bezgenrieter Straße 11, Heiningen, Bezgenrieter Straße 11, 73092 Heiningen
END:VEVENT
BEGIN:VEVENT
DTSTAMP:20260421T070217
DTSTART;TZID=Europe/Berlin:20260420T161000
DTEND;TZID=Europe/Berlin:20260420T173500
UID:2613016610-20260420T161000@VHSRAUM BAD BOLL/VORALB
SUMMARY:Tanken Sie Ihre Ressourcen durch Yoga neu auf! Für Anfänger und Fortgeschrittene (2613016610) 
LOCATION:Ernst-Weichel-Schule, Gymnastik, Bezgenrieter Straße 11, Heiningen, Bezgenrieter Straße 11, 73092 Heiningen
END:VEVENT
BEGIN:VEVENT
DTSTAMP:20260421T070217
DTSTART;TZID=Europe/Berlin:20260427T161000
DTEND;TZID=Europe/Berlin:20260427T173500
UID:2613016610-20260427T161000@VHSRAUM BAD BOLL/VORALB
SUMMARY:Tanken Sie Ihre Ressourcen durch Yoga neu auf! Für Anfänger und Fortgeschrittene (2613016610) 
LOCATION:Ernst-Weichel-Schule, Gymnastik, Bezgenrieter Straße 11, Heiningen, Bezgenrieter Straße 11, 73092 Heiningen
END:VEVENT
BEGIN:VEVENT
DTSTAMP:20260421T070217
DTSTART;TZID=Europe/Berlin:20260504T161000
DTEND;TZID=Europe/Berlin:20260504T173500
UID:2613016610-20260504T161000@VHSRAUM BAD BOLL/VORALB
SUMMARY:Tanken Sie Ihre Ressourcen durch Yoga neu auf! Für Anfänger und Fortgeschrittene (2613016610) 
LOCATION:Ernst-Weichel-Schule, Gymnastik, Bezgenrieter Straße 11, Heiningen, Bezgenrieter Straße 11, 73092 Heiningen
END:VEVENT
BEGIN:VEVENT
DTSTAMP:20260421T070217
DTSTART;TZID=Europe/Berlin:20260511T161000
DTEND;TZID=Europe/Berlin:20260511T173500
UID:2613016610-20260511T161000@VHSRAUM BAD BOLL/VORALB
SUMMARY:Tanken Sie Ihre Ressourcen durch Yoga neu auf! Für Anfänger und Fortgeschrittene (2613016610) 
LOCATION:Ernst-Weichel-Schule, Gymnastik, Bezgenrieter Straße 11, Heiningen, Bezgenrieter Straße 11, 73092 Heiningen
END:VEVENT
BEGIN:VEVENT
DTSTAMP:20260421T070217
DTSTART;TZID=Europe/Berlin:20260518T161000
DTEND;TZID=Europe/Berlin:20260518T173500
UID:2613016610-20260518T161000@VHSRAUM BAD BOLL/VORALB
SUMMARY:Tanken Sie Ihre Ressourcen durch Yoga neu auf! Für Anfänger und Fortgeschrittene (2613016610) 
LOCATION:Ernst-Weichel-Schule, Gymnastik, Bezgenrieter Straße 11, Heiningen, Bezgenrieter Straße 11, 73092 Heiningen
END:VEVENT
BEGIN:VEVENT
DTSTAMP:20260421T070217
DTSTART;TZID=Europe/Berlin:20260608T161000
DTEND;TZID=Europe/Berlin:20260608T173500
UID:2613016610-20260608T161000@VHSRAUM BAD BOLL/VORALB
SUMMARY:Tanken Sie Ihre Ressourcen durch Yoga neu auf! Für Anfänger und Fortgeschrittene (2613016610) 
LOCATION:Ernst-Weichel-Schule, Gymnastik, Bezgenrieter Straße 11, Heiningen, Bezgenrieter Straße 11, 73092 Heiningen
END:VEVENT
BEGIN:VEVENT
DTSTAMP:20260421T070217
DTSTART;TZID=Europe/Berlin:20260615T161000
DTEND;TZID=Europe/Berlin:20260615T173500
UID:2613016610-20260615T161000@VHSRAUM BAD BOLL/VORALB
SUMMARY:Tanken Sie Ihre Ressourcen durch Yoga neu auf! Für Anfänger und Fortgeschrittene (2613016610) 
LOCATION:Ernst-Weichel-Schule, Gymnastik, Bezgenrieter Straße 11, Heiningen, Bezgenrieter Straße 11, 73092 Heiningen
END:VEVENT
BEGIN:VEVENT
DTSTAMP:20260421T070217
DTSTART;TZID=Europe/Berlin:20260622T161000
DTEND;TZID=Europe/Berlin:20260622T173500
UID:2613016610-20260622T161000@VHSRAUM BAD BOLL/VORALB
SUMMARY:Tanken Sie Ihre Ressourcen durch Yoga neu auf! Für Anfänger und Fortgeschrittene (2613016610) 
LOCATION:Ernst-Weichel-Schule, Gymnastik, Bezgenrieter Straße 11, Heiningen, Bezgenrieter Straße 11, 73092 Heiningen
END:VEVENT
BEGIN:VEVENT
DTSTAMP:20260421T070217
DTSTART;TZID=Europe/Berlin:20260629T161000
DTEND;TZID=Europe/Berlin:20260629T173500
UID:2613016610-20260629T161000@VHSRAUM BAD BOLL/VORALB
SUMMARY:Tanken Sie Ihre Ressourcen durch Yoga neu auf! Für Anfänger und Fortgeschrittene (2613016610) 
LOCATION:Ernst-Weichel-Schule, Gymnastik, Bezgenrieter Straße 11, Heiningen, Bezgenrieter Straße 11, 73092 Heiningen
END:VEVENT
BEGIN:VEVENT
DTSTAMP:20260421T070217
DTSTART;TZID=Europe/Berlin:20260706T161000
DTEND;TZID=Europe/Berlin:20260706T173500
UID:2613016610-20260706T161000@VHSRAUM BAD BOLL/VORALB
SUMMARY:Tanken Sie Ihre Ressourcen durch Yoga neu auf! Für Anfänger und Fortgeschrittene (2613016610) 
LOCATION:Ernst-Weichel-Schule, Gymnastik, Bezgenrieter Straße 11, Heiningen, Bezgenrieter Straße 11, 73092 Heiningen
END:VEVENT
BEGIN:VEVENT
DTSTAMP:20260421T070217
DTSTART;TZID=Europe/Berlin:20260713T161000
DTEND;TZID=Europe/Berlin:20260713T173500
UID:2613016610-20260713T161000@VHSRAUM BAD BOLL/VORALB
SUMMARY:Tanken Sie Ihre Ressourcen durch Yoga neu auf! Für Anfänger und Fortgeschrittene (2613016610) 
LOCATION:Ernst-Weichel-Schule, Gymnastik, Bezgenrieter Straße 11, Heiningen, Bezgenrieter Straße 11, 73092 Heiningen
END:VEVENT
BEGIN:VEVENT
DTSTAMP:20260421T070217
DTSTART;TZID=Europe/Berlin:20260720T161000
DTEND;TZID=Europe/Berlin:20260720T173500
UID:2613016610-20260720T161000@VHSRAUM BAD BOLL/VORALB
SUMMARY:Tanken Sie Ihre Ressourcen durch Yoga neu auf! Für Anfänger und Fortgeschrittene (2613016610) 
LOCATION:Ernst-Weichel-Schule, Gymnastik, Bezgenrieter Straße 11, Heiningen, Bezgenrieter Straße 11, 73092 Heiningen
END:VEVENT
END:VCALENDAR