BEGIN:VCALENDAR
VERSION:2.0
PRODID:https://www.kufer.de/kuferweb / DE
METHOD:PUBLISH
CALSCALE:GREGORIAN
X-WR-TIMEZONE:Europe/Berlin
BEGIN:VTIMEZONE
TZID:Europe/Berlin
X-LIC-LOCATION:Europe/Berlin
BEGIN:DAYLIGHT
TZOFFSETFROM:+0100
TZOFFSETTO:+0200
TZNAME:CEST
DTSTART:19700329T020000
RRULE:FREQ=YEARLY;INTERVAL=1;BYDAY=-1SU;BYMONTH=3
END:DAYLIGHT
BEGIN:STANDARD
TZOFFSETFROM:+0200
TZOFFSETTO:+0100
TZNAME:CET
DTSTART:19701025T030000
RRULE:FREQ=YEARLY;INTERVAL=1;BYDAY=-1SU;BYMONTH=10
END:STANDARD
END:VTIMEZONE
BEGIN:VEVENT
DTSTAMP:20260420T022343
DTSTART;TZID=Europe/Berlin:20260223T194500
DTEND;TZID=Europe/Berlin:20260223T211500
UID:2613010208-20260223T194500@VHSRAUM BAD BOLL/VORALB
SUMMARY:Tanken Sie Ihre Ressourcen neu auf durch Yoga  (für Anfänger und Fortgeschrittene) (2613010208) 
LOCATION:Seniorenwohnanlage, Mehrzweckraum groß, Blumhardtweg 30, Bad Boll, Blumhardtweg 30, 73087 Bad Boll
END:VEVENT
BEGIN:VEVENT
DTSTAMP:20260420T022343
DTSTART;TZID=Europe/Berlin:20260309T194500
DTEND;TZID=Europe/Berlin:20260309T211500
UID:2613010208-20260309T194500@VHSRAUM BAD BOLL/VORALB
SUMMARY:Tanken Sie Ihre Ressourcen neu auf durch Yoga  (für Anfänger und Fortgeschrittene) (2613010208) 
LOCATION:Seniorenwohnanlage, Mehrzweckraum groß, Blumhardtweg 30, Bad Boll, Blumhardtweg 30, 73087 Bad Boll
END:VEVENT
BEGIN:VEVENT
DTSTAMP:20260420T022343
DTSTART;TZID=Europe/Berlin:20260316T194500
DTEND;TZID=Europe/Berlin:20260316T211500
UID:2613010208-20260316T194500@VHSRAUM BAD BOLL/VORALB
SUMMARY:Tanken Sie Ihre Ressourcen neu auf durch Yoga  (für Anfänger und Fortgeschrittene) (2613010208) 
LOCATION:Seniorenwohnanlage, Mehrzweckraum groß, Blumhardtweg 30, Bad Boll, Blumhardtweg 30, 73087 Bad Boll
END:VEVENT
BEGIN:VEVENT
DTSTAMP:20260420T022343
DTSTART;TZID=Europe/Berlin:20260323T194500
DTEND;TZID=Europe/Berlin:20260323T211500
UID:2613010208-20260323T194500@VHSRAUM BAD BOLL/VORALB
SUMMARY:Tanken Sie Ihre Ressourcen neu auf durch Yoga  (für Anfänger und Fortgeschrittene) (2613010208) 
LOCATION:Seniorenwohnanlage, Mehrzweckraum groß, Blumhardtweg 30, Bad Boll, Blumhardtweg 30, 73087 Bad Boll
END:VEVENT
BEGIN:VEVENT
DTSTAMP:20260420T022343
DTSTART;TZID=Europe/Berlin:20260413T194500
DTEND;TZID=Europe/Berlin:20260413T211500
UID:2613010208-20260413T194500@VHSRAUM BAD BOLL/VORALB
SUMMARY:Tanken Sie Ihre Ressourcen neu auf durch Yoga  (für Anfänger und Fortgeschrittene) (2613010208) 
LOCATION:Seniorenwohnanlage, Mehrzweckraum groß, Blumhardtweg 30, Bad Boll, Blumhardtweg 30, 73087 Bad Boll
END:VEVENT
BEGIN:VEVENT
DTSTAMP:20260420T022343
DTSTART;TZID=Europe/Berlin:20260420T194500
DTEND;TZID=Europe/Berlin:20260420T211500
UID:2613010208-20260420T194500@VHSRAUM BAD BOLL/VORALB
SUMMARY:Tanken Sie Ihre Ressourcen neu auf durch Yoga  (für Anfänger und Fortgeschrittene) (2613010208) 
LOCATION:Seniorenwohnanlage, Mehrzweckraum groß, Blumhardtweg 30, Bad Boll, Blumhardtweg 30, 73087 Bad Boll
END:VEVENT
BEGIN:VEVENT
DTSTAMP:20260420T022343
DTSTART;TZID=Europe/Berlin:20260427T194500
DTEND;TZID=Europe/Berlin:20260427T211500
UID:2613010208-20260427T194500@VHSRAUM BAD BOLL/VORALB
SUMMARY:Tanken Sie Ihre Ressourcen neu auf durch Yoga  (für Anfänger und Fortgeschrittene) (2613010208) 
LOCATION:Seniorenwohnanlage, Mehrzweckraum groß, Blumhardtweg 30, Bad Boll, Blumhardtweg 30, 73087 Bad Boll
END:VEVENT
BEGIN:VEVENT
DTSTAMP:20260420T022343
DTSTART;TZID=Europe/Berlin:20260504T194500
DTEND;TZID=Europe/Berlin:20260504T211500
UID:2613010208-20260504T194500@VHSRAUM BAD BOLL/VORALB
SUMMARY:Tanken Sie Ihre Ressourcen neu auf durch Yoga  (für Anfänger und Fortgeschrittene) (2613010208) 
LOCATION:Seniorenwohnanlage, Mehrzweckraum groß, Blumhardtweg 30, Bad Boll, Blumhardtweg 30, 73087 Bad Boll
END:VEVENT
BEGIN:VEVENT
DTSTAMP:20260420T022343
DTSTART;TZID=Europe/Berlin:20260511T194500
DTEND;TZID=Europe/Berlin:20260511T211500
UID:2613010208-20260511T194500@VHSRAUM BAD BOLL/VORALB
SUMMARY:Tanken Sie Ihre Ressourcen neu auf durch Yoga  (für Anfänger und Fortgeschrittene) (2613010208) 
LOCATION:Seniorenwohnanlage, Mehrzweckraum groß, Blumhardtweg 30, Bad Boll, Blumhardtweg 30, 73087 Bad Boll
END:VEVENT
BEGIN:VEVENT
DTSTAMP:20260420T022343
DTSTART;TZID=Europe/Berlin:20260518T194500
DTEND;TZID=Europe/Berlin:20260518T211500
UID:2613010208-20260518T194500@VHSRAUM BAD BOLL/VORALB
SUMMARY:Tanken Sie Ihre Ressourcen neu auf durch Yoga  (für Anfänger und Fortgeschrittene) (2613010208) 
LOCATION:Seniorenwohnanlage, Mehrzweckraum groß, Blumhardtweg 30, Bad Boll, Blumhardtweg 30, 73087 Bad Boll
END:VEVENT
BEGIN:VEVENT
DTSTAMP:20260420T022343
DTSTART;TZID=Europe/Berlin:20260525T194500
DTEND;TZID=Europe/Berlin:20260525T211500
UID:2613010208-20260525T194500@VHSRAUM BAD BOLL/VORALB
SUMMARY:Tanken Sie Ihre Ressourcen neu auf durch Yoga  (für Anfänger und Fortgeschrittene) (2613010208) 
LOCATION:Seniorenwohnanlage, Mehrzweckraum groß, Blumhardtweg 30, Bad Boll, Blumhardtweg 30, 73087 Bad Boll
END:VEVENT
BEGIN:VEVENT
DTSTAMP:20260420T022343
DTSTART;TZID=Europe/Berlin:20260608T194500
DTEND;TZID=Europe/Berlin:20260608T211500
UID:2613010208-20260608T194500@VHSRAUM BAD BOLL/VORALB
SUMMARY:Tanken Sie Ihre Ressourcen neu auf durch Yoga  (für Anfänger und Fortgeschrittene) (2613010208) 
LOCATION:Seniorenwohnanlage, Mehrzweckraum groß, Blumhardtweg 30, Bad Boll, Blumhardtweg 30, 73087 Bad Boll
END:VEVENT
BEGIN:VEVENT
DTSTAMP:20260420T022343
DTSTART;TZID=Europe/Berlin:20260615T194500
DTEND;TZID=Europe/Berlin:20260615T211500
UID:2613010208-20260615T194500@VHSRAUM BAD BOLL/VORALB
SUMMARY:Tanken Sie Ihre Ressourcen neu auf durch Yoga  (für Anfänger und Fortgeschrittene) (2613010208) 
LOCATION:Seniorenwohnanlage, Mehrzweckraum groß, Blumhardtweg 30, Bad Boll, Blumhardtweg 30, 73087 Bad Boll
END:VEVENT
BEGIN:VEVENT
DTSTAMP:20260420T022343
DTSTART;TZID=Europe/Berlin:20260622T194500
DTEND;TZID=Europe/Berlin:20260622T211500
UID:2613010208-20260622T194500@VHSRAUM BAD BOLL/VORALB
SUMMARY:Tanken Sie Ihre Ressourcen neu auf durch Yoga  (für Anfänger und Fortgeschrittene) (2613010208) 
LOCATION:Seniorenwohnanlage, Mehrzweckraum groß, Blumhardtweg 30, Bad Boll, Blumhardtweg 30, 73087 Bad Boll
END:VEVENT
BEGIN:VEVENT
DTSTAMP:20260420T022343
DTSTART;TZID=Europe/Berlin:20260629T194500
DTEND;TZID=Europe/Berlin:20260629T211500
UID:2613010208-20260629T194500@VHSRAUM BAD BOLL/VORALB
SUMMARY:Tanken Sie Ihre Ressourcen neu auf durch Yoga  (für Anfänger und Fortgeschrittene) (2613010208) 
LOCATION:Seniorenwohnanlage, Mehrzweckraum groß, Blumhardtweg 30, Bad Boll, Blumhardtweg 30, 73087 Bad Boll
END:VEVENT
BEGIN:VEVENT
DTSTAMP:20260420T022343
DTSTART;TZID=Europe/Berlin:20260706T194500
DTEND;TZID=Europe/Berlin:20260706T211500
UID:2613010208-20260706T194500@VHSRAUM BAD BOLL/VORALB
SUMMARY:Tanken Sie Ihre Ressourcen neu auf durch Yoga  (für Anfänger und Fortgeschrittene) (2613010208) 
LOCATION:Seniorenwohnanlage, Mehrzweckraum groß, Blumhardtweg 30, Bad Boll, Blumhardtweg 30, 73087 Bad Boll
END:VEVENT
BEGIN:VEVENT
DTSTAMP:20260420T022343
DTSTART;TZID=Europe/Berlin:20260713T194500
DTEND;TZID=Europe/Berlin:20260713T211500
UID:2613010208-20260713T194500@VHSRAUM BAD BOLL/VORALB
DESCRIPTION:Ersatz für Ausfall am 02.03.2026
SUMMARY:Tanken Sie Ihre Ressourcen neu auf durch Yoga  (für Anfänger und Fortgeschrittene) (2613010208) 
LOCATION:Seniorenwohnanlage, Mehrzweckraum groß, Blumhardtweg 30, Bad Boll, Blumhardtweg 30, 73087 Bad Boll
END:VEVENT
END:VCALENDAR