BEGIN:VCALENDAR
VERSION:2.0
PRODID:https://www.kufer.de/kuferweb / DE
METHOD:PUBLISH
CALSCALE:GREGORIAN
X-WR-TIMEZONE:Europe/Berlin
BEGIN:VTIMEZONE
TZID:Europe/Berlin
X-LIC-LOCATION:Europe/Berlin
BEGIN:DAYLIGHT
TZOFFSETFROM:+0100
TZOFFSETTO:+0200
TZNAME:CEST
DTSTART:19700329T020000
RRULE:FREQ=YEARLY;INTERVAL=1;BYDAY=-1SU;BYMONTH=3
END:DAYLIGHT
BEGIN:STANDARD
TZOFFSETFROM:+0200
TZOFFSETTO:+0100
TZNAME:CET
DTSTART:19701025T030000
RRULE:FREQ=YEARLY;INTERVAL=1;BYDAY=-1SU;BYMONTH=10
END:STANDARD
END:VTIMEZONE
BEGIN:VEVENT
DTSTAMP:20260421T165807
DTSTART;TZID=Europe/Berlin:20260414T154000
DTEND;TZID=Europe/Berlin:20260414T174000
UID:2612096609-20260414T154000@VHSRAUM BAD BOLL/VORALB
SUMMARY:Nähführerschein für Kinder ab 8 Jahren (2612096609) 
LOCATION:Ernst-Weichel-Schule, HWS-Raum, Bezgenrieter Straße 11, Heiningen, Bezgenrieter Straße 11, 73092 Heiningen
END:VEVENT
BEGIN:VEVENT
DTSTAMP:20260421T165807
DTSTART;TZID=Europe/Berlin:20260421T154000
DTEND;TZID=Europe/Berlin:20260421T174000
UID:2612096609-20260421T154000@VHSRAUM BAD BOLL/VORALB
SUMMARY:Nähführerschein für Kinder ab 8 Jahren (2612096609) 
LOCATION:Ernst-Weichel-Schule, HWS-Raum, Bezgenrieter Straße 11, Heiningen, Bezgenrieter Straße 11, 73092 Heiningen
END:VEVENT
BEGIN:VEVENT
DTSTAMP:20260421T165807
DTSTART;TZID=Europe/Berlin:20260428T154000
DTEND;TZID=Europe/Berlin:20260428T174000
UID:2612096609-20260428T154000@VHSRAUM BAD BOLL/VORALB
SUMMARY:Nähführerschein für Kinder ab 8 Jahren (2612096609) 
LOCATION:Ernst-Weichel-Schule, HWS-Raum, Bezgenrieter Straße 11, Heiningen, Bezgenrieter Straße 11, 73092 Heiningen
END:VEVENT
BEGIN:VEVENT
DTSTAMP:20260421T165807
DTSTART;TZID=Europe/Berlin:20260505T154000
DTEND;TZID=Europe/Berlin:20260505T174000
UID:2612096609-20260505T154000@VHSRAUM BAD BOLL/VORALB
SUMMARY:Nähführerschein für Kinder ab 8 Jahren (2612096609) 
LOCATION:Ernst-Weichel-Schule, HWS-Raum, Bezgenrieter Straße 11, Heiningen, Bezgenrieter Straße 11, 73092 Heiningen
END:VEVENT
BEGIN:VEVENT
DTSTAMP:20260421T165807
DTSTART;TZID=Europe/Berlin:20260512T154000
DTEND;TZID=Europe/Berlin:20260512T174000
UID:2612096609-20260512T154000@VHSRAUM BAD BOLL/VORALB
SUMMARY:Nähführerschein für Kinder ab 8 Jahren (2612096609) 
LOCATION:Ernst-Weichel-Schule, HWS-Raum, Bezgenrieter Straße 11, Heiningen, Bezgenrieter Straße 11, 73092 Heiningen
END:VEVENT
END:VCALENDAR