BEGIN:VCALENDAR
VERSION:2.0
PRODID:https://www.kufer.de/kuferweb / DE
METHOD:PUBLISH
CALSCALE:GREGORIAN
X-WR-TIMEZONE:Europe/Berlin
BEGIN:VTIMEZONE
TZID:Europe/Berlin
X-LIC-LOCATION:Europe/Berlin
BEGIN:DAYLIGHT
TZOFFSETFROM:+0100
TZOFFSETTO:+0200
TZNAME:CEST
DTSTART:19700329T020000
RRULE:FREQ=YEARLY;INTERVAL=1;BYDAY=-1SU;BYMONTH=3
END:DAYLIGHT
BEGIN:STANDARD
TZOFFSETFROM:+0200
TZOFFSETTO:+0100
TZNAME:CET
DTSTART:19701025T030000
RRULE:FREQ=YEARLY;INTERVAL=1;BYDAY=-1SU;BYMONTH=10
END:STANDARD
END:VTIMEZONE
BEGIN:VEVENT
DTSTAMP:20260419T140541
DTSTART;TZID=Europe/Berlin:20260225T093000
DTEND;TZID=Europe/Berlin:20260225T120000
UID:2612070501-20260225T093000@VHSRAUM BAD BOLL/VORALB
SUMMARY:Malen am Mittwochvormittag Wir experimentieren mit Acryl (2612070501) 
LOCATION:Grundschule, Werkraum, Schulgasse 2, Hattenhofen, Schulgasse 2, 73110 Hattenhofen
END:VEVENT
BEGIN:VEVENT
DTSTAMP:20260419T140541
DTSTART;TZID=Europe/Berlin:20260304T093000
DTEND;TZID=Europe/Berlin:20260304T120000
UID:2612070501-20260304T093000@VHSRAUM BAD BOLL/VORALB
SUMMARY:Malen am Mittwochvormittag Wir experimentieren mit Acryl (2612070501) 
LOCATION:Grundschule, Werkraum, Schulgasse 2, Hattenhofen, Schulgasse 2, 73110 Hattenhofen
END:VEVENT
BEGIN:VEVENT
DTSTAMP:20260419T140541
DTSTART;TZID=Europe/Berlin:20260311T093000
DTEND;TZID=Europe/Berlin:20260311T120000
UID:2612070501-20260311T093000@VHSRAUM BAD BOLL/VORALB
SUMMARY:Malen am Mittwochvormittag Wir experimentieren mit Acryl (2612070501) 
LOCATION:Grundschule, Werkraum, Schulgasse 2, Hattenhofen, Schulgasse 2, 73110 Hattenhofen
END:VEVENT
BEGIN:VEVENT
DTSTAMP:20260419T140541
DTSTART;TZID=Europe/Berlin:20260325T093000
DTEND;TZID=Europe/Berlin:20260325T120000
UID:2612070501-20260325T093000@VHSRAUM BAD BOLL/VORALB
SUMMARY:Malen am Mittwochvormittag Wir experimentieren mit Acryl (2612070501) 
LOCATION:Grundschule, Werkraum, Schulgasse 2, Hattenhofen, Schulgasse 2, 73110 Hattenhofen
END:VEVENT
BEGIN:VEVENT
DTSTAMP:20260419T140541
DTSTART;TZID=Europe/Berlin:20260415T093000
DTEND;TZID=Europe/Berlin:20260415T120000
UID:2612070501-20260415T093000@VHSRAUM BAD BOLL/VORALB
SUMMARY:Malen am Mittwochvormittag Wir experimentieren mit Acryl (2612070501) 
LOCATION:Grundschule, Werkraum, Schulgasse 2, Hattenhofen, Schulgasse 2, 73110 Hattenhofen
END:VEVENT
BEGIN:VEVENT
DTSTAMP:20260419T140541
DTSTART;TZID=Europe/Berlin:20260422T093000
DTEND;TZID=Europe/Berlin:20260422T120000
UID:2612070501-20260422T093000@VHSRAUM BAD BOLL/VORALB
SUMMARY:Malen am Mittwochvormittag Wir experimentieren mit Acryl (2612070501) 
LOCATION:Grundschule, Werkraum, Schulgasse 2, Hattenhofen, Schulgasse 2, 73110 Hattenhofen
END:VEVENT
BEGIN:VEVENT
DTSTAMP:20260419T140541
DTSTART;TZID=Europe/Berlin:20260429T093000
DTEND;TZID=Europe/Berlin:20260429T120000
UID:2612070501-20260429T093000@VHSRAUM BAD BOLL/VORALB
SUMMARY:Malen am Mittwochvormittag Wir experimentieren mit Acryl (2612070501) 
LOCATION:Grundschule, Werkraum, Schulgasse 2, Hattenhofen, Schulgasse 2, 73110 Hattenhofen
END:VEVENT
END:VCALENDAR