BEGIN:VCALENDAR
VERSION:2.0
PRODID:https://www.kufer.de/kuferweb / DE
METHOD:PUBLISH
CALSCALE:GREGORIAN
X-WR-TIMEZONE:Europe/Berlin
BEGIN:VTIMEZONE
TZID:Europe/Berlin
X-LIC-LOCATION:Europe/Berlin
BEGIN:DAYLIGHT
TZOFFSETFROM:+0100
TZOFFSETTO:+0200
TZNAME:CEST
DTSTART:19700329T020000
RRULE:FREQ=YEARLY;INTERVAL=1;BYDAY=-1SU;BYMONTH=3
END:DAYLIGHT
BEGIN:STANDARD
TZOFFSETFROM:+0200
TZOFFSETTO:+0100
TZNAME:CET
DTSTART:19701025T030000
RRULE:FREQ=YEARLY;INTERVAL=1;BYDAY=-1SU;BYMONTH=10
END:STANDARD
END:VTIMEZONE
BEGIN:VEVENT
DTSTAMP:20260421T165956
DTSTART;TZID=Europe/Berlin:20260306T141500
DTEND;TZID=Europe/Berlin:20260306T151500
UID:2612050301-20260306T141500@VHSRAUM BAD BOLL/VORALB
SUMMARY:Ballett und tänzerische Gymnastik für Kinder ab circa 5 Jahren (2612050301) 
LOCATION:Kornberghalle, Gymnastikraum, Frühlingstraße 5, Dürnau, Frühlingstraße 5, 73105 Dürnau
END:VEVENT
BEGIN:VEVENT
DTSTAMP:20260421T165956
DTSTART;TZID=Europe/Berlin:20260313T141500
DTEND;TZID=Europe/Berlin:20260313T151500
UID:2612050301-20260313T141500@VHSRAUM BAD BOLL/VORALB
SUMMARY:Ballett und tänzerische Gymnastik für Kinder ab circa 5 Jahren (2612050301) 
LOCATION:Kornberghalle, Gymnastikraum, Frühlingstraße 5, Dürnau, Frühlingstraße 5, 73105 Dürnau
END:VEVENT
BEGIN:VEVENT
DTSTAMP:20260421T165956
DTSTART;TZID=Europe/Berlin:20260320T141500
DTEND;TZID=Europe/Berlin:20260320T151500
UID:2612050301-20260320T141500@VHSRAUM BAD BOLL/VORALB
SUMMARY:Ballett und tänzerische Gymnastik für Kinder ab circa 5 Jahren (2612050301) 
LOCATION:Kornberghalle, Gymnastikraum, Frühlingstraße 5, Dürnau, Frühlingstraße 5, 73105 Dürnau
END:VEVENT
BEGIN:VEVENT
DTSTAMP:20260421T165956
DTSTART;TZID=Europe/Berlin:20260327T141500
DTEND;TZID=Europe/Berlin:20260327T151500
UID:2612050301-20260327T141500@VHSRAUM BAD BOLL/VORALB
SUMMARY:Ballett und tänzerische Gymnastik für Kinder ab circa 5 Jahren (2612050301) 
LOCATION:Kornberghalle, Gymnastikraum, Frühlingstraße 5, Dürnau, Frühlingstraße 5, 73105 Dürnau
END:VEVENT
BEGIN:VEVENT
DTSTAMP:20260421T165956
DTSTART;TZID=Europe/Berlin:20260417T141500
DTEND;TZID=Europe/Berlin:20260417T151500
UID:2612050301-20260417T141500@VHSRAUM BAD BOLL/VORALB
SUMMARY:Ballett und tänzerische Gymnastik für Kinder ab circa 5 Jahren (2612050301) 
LOCATION:Kornberghalle, Gymnastikraum, Frühlingstraße 5, Dürnau, Frühlingstraße 5, 73105 Dürnau
END:VEVENT
BEGIN:VEVENT
DTSTAMP:20260421T165956
DTSTART;TZID=Europe/Berlin:20260424T141500
DTEND;TZID=Europe/Berlin:20260424T151500
UID:2612050301-20260424T141500@VHSRAUM BAD BOLL/VORALB
SUMMARY:Ballett und tänzerische Gymnastik für Kinder ab circa 5 Jahren (2612050301) 
LOCATION:Kornberghalle, Gymnastikraum, Frühlingstraße 5, Dürnau, Frühlingstraße 5, 73105 Dürnau
END:VEVENT
BEGIN:VEVENT
DTSTAMP:20260421T165956
DTSTART;TZID=Europe/Berlin:20260508T141500
DTEND;TZID=Europe/Berlin:20260508T151500
UID:2612050301-20260508T141500@VHSRAUM BAD BOLL/VORALB
SUMMARY:Ballett und tänzerische Gymnastik für Kinder ab circa 5 Jahren (2612050301) 
LOCATION:Kornberghalle, Gymnastikraum, Frühlingstraße 5, Dürnau, Frühlingstraße 5, 73105 Dürnau
END:VEVENT
BEGIN:VEVENT
DTSTAMP:20260421T165956
DTSTART;TZID=Europe/Berlin:20260522T141500
DTEND;TZID=Europe/Berlin:20260522T151500
UID:2612050301-20260522T141500@VHSRAUM BAD BOLL/VORALB
SUMMARY:Ballett und tänzerische Gymnastik für Kinder ab circa 5 Jahren (2612050301) 
LOCATION:Kornberghalle, Gymnastikraum, Frühlingstraße 5, Dürnau, Frühlingstraße 5, 73105 Dürnau
END:VEVENT
BEGIN:VEVENT
DTSTAMP:20260421T165956
DTSTART;TZID=Europe/Berlin:20260612T141500
DTEND;TZID=Europe/Berlin:20260612T151500
UID:2612050301-20260612T141500@VHSRAUM BAD BOLL/VORALB
SUMMARY:Ballett und tänzerische Gymnastik für Kinder ab circa 5 Jahren (2612050301) 
LOCATION:Kornberghalle, Gymnastikraum, Frühlingstraße 5, Dürnau, Frühlingstraße 5, 73105 Dürnau
END:VEVENT
BEGIN:VEVENT
DTSTAMP:20260421T165956
DTSTART;TZID=Europe/Berlin:20260619T141500
DTEND;TZID=Europe/Berlin:20260619T151500
UID:2612050301-20260619T141500@VHSRAUM BAD BOLL/VORALB
SUMMARY:Ballett und tänzerische Gymnastik für Kinder ab circa 5 Jahren (2612050301) 
LOCATION:Kornberghalle, Gymnastikraum, Frühlingstraße 5, Dürnau, Frühlingstraße 5, 73105 Dürnau
END:VEVENT
BEGIN:VEVENT
DTSTAMP:20260421T165956
DTSTART;TZID=Europe/Berlin:20260626T141500
DTEND;TZID=Europe/Berlin:20260626T151500
UID:2612050301-20260626T141500@VHSRAUM BAD BOLL/VORALB
SUMMARY:Ballett und tänzerische Gymnastik für Kinder ab circa 5 Jahren (2612050301) 
LOCATION:Kornberghalle, Gymnastikraum, Frühlingstraße 5, Dürnau, Frühlingstraße 5, 73105 Dürnau
END:VEVENT
BEGIN:VEVENT
DTSTAMP:20260421T165956
DTSTART;TZID=Europe/Berlin:20260703T141500
DTEND;TZID=Europe/Berlin:20260703T151500
UID:2612050301-20260703T141500@VHSRAUM BAD BOLL/VORALB
SUMMARY:Ballett und tänzerische Gymnastik für Kinder ab circa 5 Jahren (2612050301) 
LOCATION:Kornberghalle, Gymnastikraum, Frühlingstraße 5, Dürnau, Frühlingstraße 5, 73105 Dürnau
END:VEVENT
END:VCALENDAR