BEGIN:VCALENDAR
VERSION:2.0
PRODID:https://www.kufer.de/kuferweb / DE
METHOD:PUBLISH
CALSCALE:GREGORIAN
X-WR-TIMEZONE:Europe/Berlin
BEGIN:VTIMEZONE
TZID:Europe/Berlin
X-LIC-LOCATION:Europe/Berlin
BEGIN:DAYLIGHT
TZOFFSETFROM:+0100
TZOFFSETTO:+0200
TZNAME:CEST
DTSTART:19700329T020000
RRULE:FREQ=YEARLY;INTERVAL=1;BYDAY=-1SU;BYMONTH=3
END:DAYLIGHT
BEGIN:STANDARD
TZOFFSETFROM:+0200
TZOFFSETTO:+0100
TZNAME:CET
DTSTART:19701025T030000
RRULE:FREQ=YEARLY;INTERVAL=1;BYDAY=-1SU;BYMONTH=10
END:STANDARD
END:VTIMEZONE
BEGIN:VEVENT
DTSTAMP:20260422T053129
DTSTART;TZID=Europe/Berlin:20260225T200000
DTEND;TZID=Europe/Berlin:20260225T210000
UID:2612050205-20260225T200000@VHSRAUM BAD BOLL/VORALB
SUMMARY:Line Dance - for Beginners (mit Vorkenntnissen) (2612050205) 
LOCATION:Heinrich-Schickhardt-Schule, alte Sporthalle, Schulweg 1, Bad Boll, Schulweg 1, 73087 Bad Boll
END:VEVENT
BEGIN:VEVENT
DTSTAMP:20260422T053129
DTSTART;TZID=Europe/Berlin:20260304T200000
DTEND;TZID=Europe/Berlin:20260304T210000
UID:2612050205-20260304T200000@VHSRAUM BAD BOLL/VORALB
SUMMARY:Line Dance - for Beginners (mit Vorkenntnissen) (2612050205) 
LOCATION:Heinrich-Schickhardt-Schule, alte Sporthalle, Schulweg 1, Bad Boll, Schulweg 1, 73087 Bad Boll
END:VEVENT
BEGIN:VEVENT
DTSTAMP:20260422T053129
DTSTART;TZID=Europe/Berlin:20260311T200000
DTEND;TZID=Europe/Berlin:20260311T210000
UID:2612050205-20260311T200000@VHSRAUM BAD BOLL/VORALB
SUMMARY:Line Dance - for Beginners (mit Vorkenntnissen) (2612050205) 
LOCATION:Heinrich-Schickhardt-Schule, alte Sporthalle, Schulweg 1, Bad Boll, Schulweg 1, 73087 Bad Boll
END:VEVENT
BEGIN:VEVENT
DTSTAMP:20260422T053129
DTSTART;TZID=Europe/Berlin:20260318T200000
DTEND;TZID=Europe/Berlin:20260318T210000
UID:2612050205-20260318T200000@VHSRAUM BAD BOLL/VORALB
SUMMARY:Line Dance - for Beginners (mit Vorkenntnissen) (2612050205) 
LOCATION:Heinrich-Schickhardt-Schule, alte Sporthalle, Schulweg 1, Bad Boll, Schulweg 1, 73087 Bad Boll
END:VEVENT
BEGIN:VEVENT
DTSTAMP:20260422T053129
DTSTART;TZID=Europe/Berlin:20260325T200000
DTEND;TZID=Europe/Berlin:20260325T210000
UID:2612050205-20260325T200000@VHSRAUM BAD BOLL/VORALB
SUMMARY:Line Dance - for Beginners (mit Vorkenntnissen) (2612050205) 
LOCATION:Heinrich-Schickhardt-Schule, alte Sporthalle, Schulweg 1, Bad Boll, Schulweg 1, 73087 Bad Boll
END:VEVENT
BEGIN:VEVENT
DTSTAMP:20260422T053129
DTSTART;TZID=Europe/Berlin:20260415T200000
DTEND;TZID=Europe/Berlin:20260415T210000
UID:2612050205-20260415T200000@VHSRAUM BAD BOLL/VORALB
SUMMARY:Line Dance - for Beginners (mit Vorkenntnissen) (2612050205) 
LOCATION:Heinrich-Schickhardt-Schule, alte Sporthalle, Schulweg 1, Bad Boll, Schulweg 1, 73087 Bad Boll
END:VEVENT
BEGIN:VEVENT
DTSTAMP:20260422T053129
DTSTART;TZID=Europe/Berlin:20260422T200000
DTEND;TZID=Europe/Berlin:20260422T210000
UID:2612050205-20260422T200000@VHSRAUM BAD BOLL/VORALB
SUMMARY:Line Dance - for Beginners (mit Vorkenntnissen) (2612050205) 
LOCATION:Heinrich-Schickhardt-Schule, alte Sporthalle, Schulweg 1, Bad Boll, Schulweg 1, 73087 Bad Boll
END:VEVENT
BEGIN:VEVENT
DTSTAMP:20260422T053129
DTSTART;TZID=Europe/Berlin:20260506T200000
DTEND;TZID=Europe/Berlin:20260506T210000
UID:2612050205-20260506T200000@VHSRAUM BAD BOLL/VORALB
SUMMARY:Line Dance - for Beginners (mit Vorkenntnissen) (2612050205) 
LOCATION:Heinrich-Schickhardt-Schule, alte Sporthalle, Schulweg 1, Bad Boll, Schulweg 1, 73087 Bad Boll
END:VEVENT
BEGIN:VEVENT
DTSTAMP:20260422T053129
DTSTART;TZID=Europe/Berlin:20260513T200000
DTEND;TZID=Europe/Berlin:20260513T210000
UID:2612050205-20260513T200000@VHSRAUM BAD BOLL/VORALB
SUMMARY:Line Dance - for Beginners (mit Vorkenntnissen) (2612050205) 
LOCATION:Heinrich-Schickhardt-Schule, alte Sporthalle, Schulweg 1, Bad Boll, Schulweg 1, 73087 Bad Boll
END:VEVENT
BEGIN:VEVENT
DTSTAMP:20260422T053129
DTSTART;TZID=Europe/Berlin:20260520T200000
DTEND;TZID=Europe/Berlin:20260520T210000
UID:2612050205-20260520T200000@VHSRAUM BAD BOLL/VORALB
SUMMARY:Line Dance - for Beginners (mit Vorkenntnissen) (2612050205) 
LOCATION:Heinrich-Schickhardt-Schule, alte Sporthalle, Schulweg 1, Bad Boll, Schulweg 1, 73087 Bad Boll
END:VEVENT
BEGIN:VEVENT
DTSTAMP:20260422T053129
DTSTART;TZID=Europe/Berlin:20260624T200000
DTEND;TZID=Europe/Berlin:20260624T210000
UID:2612050205-20260624T200000@VHSRAUM BAD BOLL/VORALB
SUMMARY:Line Dance - for Beginners (mit Vorkenntnissen) (2612050205) 
LOCATION:Heinrich-Schickhardt-Schule, alte Sporthalle, Schulweg 1, Bad Boll, Schulweg 1, 73087 Bad Boll
END:VEVENT
BEGIN:VEVENT
DTSTAMP:20260422T053129
DTSTART;TZID=Europe/Berlin:20260701T200000
DTEND;TZID=Europe/Berlin:20260701T210000
UID:2612050205-20260701T200000@VHSRAUM BAD BOLL/VORALB
SUMMARY:Line Dance - for Beginners (mit Vorkenntnissen) (2612050205) 
LOCATION:Heinrich-Schickhardt-Schule, alte Sporthalle, Schulweg 1, Bad Boll, Schulweg 1, 73087 Bad Boll
END:VEVENT
BEGIN:VEVENT
DTSTAMP:20260422T053129
DTSTART;TZID=Europe/Berlin:20260708T200000
DTEND;TZID=Europe/Berlin:20260708T210000
UID:2612050205-20260708T200000@VHSRAUM BAD BOLL/VORALB
SUMMARY:Line Dance - for Beginners (mit Vorkenntnissen) (2612050205) 
LOCATION:Heinrich-Schickhardt-Schule, alte Sporthalle, Schulweg 1, Bad Boll, Schulweg 1, 73087 Bad Boll
END:VEVENT
BEGIN:VEVENT
DTSTAMP:20260422T053129
DTSTART;TZID=Europe/Berlin:20260715T200000
DTEND;TZID=Europe/Berlin:20260715T210000
UID:2612050205-20260715T200000@VHSRAUM BAD BOLL/VORALB
SUMMARY:Line Dance - for Beginners (mit Vorkenntnissen) (2612050205) 
LOCATION:Heinrich-Schickhardt-Schule, alte Sporthalle, Schulweg 1, Bad Boll, Schulweg 1, 73087 Bad Boll
END:VEVENT
BEGIN:VEVENT
DTSTAMP:20260422T053129
DTSTART;TZID=Europe/Berlin:20260722T200000
DTEND;TZID=Europe/Berlin:20260722T210000
UID:2612050205-20260722T200000@VHSRAUM BAD BOLL/VORALB
SUMMARY:Line Dance - for Beginners (mit Vorkenntnissen) (2612050205) 
LOCATION:Heinrich-Schickhardt-Schule, alte Sporthalle, Schulweg 1, Bad Boll, Schulweg 1, 73087 Bad Boll
END:VEVENT
END:VCALENDAR