BEGIN:VCALENDAR
VERSION:2.0
PRODID:https://www.kufer.de/kuferweb / DE
METHOD:PUBLISH
CALSCALE:GREGORIAN
X-WR-TIMEZONE:Europe/Berlin
BEGIN:VTIMEZONE
TZID:Europe/Berlin
X-LIC-LOCATION:Europe/Berlin
BEGIN:DAYLIGHT
TZOFFSETFROM:+0100
TZOFFSETTO:+0200
TZNAME:CEST
DTSTART:19700329T020000
RRULE:FREQ=YEARLY;INTERVAL=1;BYDAY=-1SU;BYMONTH=3
END:DAYLIGHT
BEGIN:STANDARD
TZOFFSETFROM:+0200
TZOFFSETTO:+0100
TZNAME:CET
DTSTART:19701025T030000
RRULE:FREQ=YEARLY;INTERVAL=1;BYDAY=-1SU;BYMONTH=10
END:STANDARD
END:VTIMEZONE
BEGIN:VEVENT
DTSTAMP:20260421T172321
DTSTART;TZID=Europe/Berlin:20260225T163000
DTEND;TZID=Europe/Berlin:20260225T170000
UID:2612016602-20260225T163000@VHSRAUM BAD BOLL/VORALB
SUMMARY:Vor-Lesespaß in der Bücherei (2612016602) 
LOCATION:Gemeindebücherei, Bezgenrieter Straße 11, Heiningen , Bezgenrieter Straße 11, 73092 Heiningen
END:VEVENT
BEGIN:VEVENT
DTSTAMP:20260421T172321
DTSTART;TZID=Europe/Berlin:20260325T163000
DTEND;TZID=Europe/Berlin:20260325T170000
UID:2612016602-20260325T163000@VHSRAUM BAD BOLL/VORALB
SUMMARY:Vor-Lesespaß in der Bücherei (2612016602) 
LOCATION:Gemeindebücherei, Bezgenrieter Straße 11, Heiningen , Bezgenrieter Straße 11, 73092 Heiningen
END:VEVENT
BEGIN:VEVENT
DTSTAMP:20260421T172321
DTSTART;TZID=Europe/Berlin:20260429T163000
DTEND;TZID=Europe/Berlin:20260429T170000
UID:2612016602-20260429T163000@VHSRAUM BAD BOLL/VORALB
SUMMARY:Vor-Lesespaß in der Bücherei (2612016602) 
LOCATION:Gemeindebücherei, Bezgenrieter Straße 11, Heiningen , Bezgenrieter Straße 11, 73092 Heiningen
END:VEVENT
BEGIN:VEVENT
DTSTAMP:20260421T172321
DTSTART;TZID=Europe/Berlin:20260520T163000
DTEND;TZID=Europe/Berlin:20260520T170000
UID:2612016602-20260520T163000@VHSRAUM BAD BOLL/VORALB
SUMMARY:Vor-Lesespaß in der Bücherei (2612016602) 
LOCATION:Gemeindebücherei, Bezgenrieter Straße 11, Heiningen , Bezgenrieter Straße 11, 73092 Heiningen
END:VEVENT
BEGIN:VEVENT
DTSTAMP:20260421T172321
DTSTART;TZID=Europe/Berlin:20260624T163000
DTEND;TZID=Europe/Berlin:20260624T170000
UID:2612016602-20260624T163000@VHSRAUM BAD BOLL/VORALB
SUMMARY:Vor-Lesespaß in der Bücherei (2612016602) 
LOCATION:Gemeindebücherei, Bezgenrieter Straße 11, Heiningen , Bezgenrieter Straße 11, 73092 Heiningen
END:VEVENT
END:VCALENDAR