BEGIN:VCALENDAR
VERSION:2.0
PRODID:https://www.kufer.de/kuferweb / DE
METHOD:PUBLISH
CALSCALE:GREGORIAN
X-WR-TIMEZONE:Europe/Berlin
BEGIN:VTIMEZONE
TZID:Europe/Berlin
X-LIC-LOCATION:Europe/Berlin
BEGIN:DAYLIGHT
TZOFFSETFROM:+0100
TZOFFSETTO:+0200
TZNAME:CEST
DTSTART:19700329T020000
RRULE:FREQ=YEARLY;INTERVAL=1;BYDAY=-1SU;BYMONTH=3
END:DAYLIGHT
BEGIN:STANDARD
TZOFFSETFROM:+0200
TZOFFSETTO:+0100
TZNAME:CET
DTSTART:19701025T030000
RRULE:FREQ=YEARLY;INTERVAL=1;BYDAY=-1SU;BYMONTH=10
END:STANDARD
END:VTIMEZONE
BEGIN:VEVENT
DTSTAMP:20260422T053058
DTSTART;TZID=Europe/Berlin:20260303T190000
DTEND;TZID=Europe/Berlin:20260303T203000
UID:2612016601-20260303T190000@VHSRAUM BAD BOLL/VORALB
SUMMARY:Lieben Sie Lesen? (2612016601) 
LOCATION:Ernst-Weichel-Schule, Raum 04, Bezgenrieter Straße 11, Heiningen, Bezgenrieter Straße 11, 73092 Heiningen
END:VEVENT
BEGIN:VEVENT
DTSTAMP:20260422T053058
DTSTART;TZID=Europe/Berlin:20260414T190000
DTEND;TZID=Europe/Berlin:20260414T203000
UID:2612016601-20260414T190000@VHSRAUM BAD BOLL/VORALB
SUMMARY:Lieben Sie Lesen? (2612016601) 
LOCATION:Ernst-Weichel-Schule, Raum 04, Bezgenrieter Straße 11, Heiningen, Bezgenrieter Straße 11, 73092 Heiningen
END:VEVENT
BEGIN:VEVENT
DTSTAMP:20260422T053058
DTSTART;TZID=Europe/Berlin:20260519T190000
DTEND;TZID=Europe/Berlin:20260519T203000
UID:2612016601-20260519T190000@VHSRAUM BAD BOLL/VORALB
SUMMARY:Lieben Sie Lesen? (2612016601) 
LOCATION:Ernst-Weichel-Schule, Raum 04, Bezgenrieter Straße 11, Heiningen, Bezgenrieter Straße 11, 73092 Heiningen
END:VEVENT
BEGIN:VEVENT
DTSTAMP:20260422T053058
DTSTART;TZID=Europe/Berlin:20260630T190000
DTEND;TZID=Europe/Berlin:20260630T203000
UID:2612016601-20260630T190000@VHSRAUM BAD BOLL/VORALB
SUMMARY:Lieben Sie Lesen? (2612016601) 
LOCATION:Ernst-Weichel-Schule, Raum 04, Bezgenrieter Straße 11, Heiningen, Bezgenrieter Straße 11, 73092 Heiningen
END:VEVENT
END:VCALENDAR