BEGIN:VCALENDAR
VERSION:2.0
PRODID:https://www.kufer.de/kuferweb / DE
METHOD:PUBLISH
CALSCALE:GREGORIAN
X-WR-TIMEZONE:Europe/Berlin
BEGIN:VTIMEZONE
TZID:Europe/Berlin
X-LIC-LOCATION:Europe/Berlin
BEGIN:DAYLIGHT
TZOFFSETFROM:+0100
TZOFFSETTO:+0200
TZNAME:CEST
DTSTART:19700329T020000
RRULE:FREQ=YEARLY;INTERVAL=1;BYDAY=-1SU;BYMONTH=3
END:DAYLIGHT
BEGIN:STANDARD
TZOFFSETFROM:+0200
TZOFFSETTO:+0100
TZNAME:CET
DTSTART:19701025T030000
RRULE:FREQ=YEARLY;INTERVAL=1;BYDAY=-1SU;BYMONTH=10
END:STANDARD
END:VTIMEZONE
BEGIN:VEVENT
DTSTAMP:20260423T103749
DTSTART;TZID=Europe/Berlin:20270104T080000
DTEND;TZID=Europe/Berlin:20270104T235900
UID:2611096611-20270104T080000@VHSRAUM BAD BOLL/VORALB
SUMMARY:Reise: Vietnam (2611096611) 
LOCATION:Reise, , 
END:VEVENT
BEGIN:VEVENT
DTSTAMP:20260423T103749
DTSTART;TZID=Europe/Berlin:20270105T000000
DTEND;TZID=Europe/Berlin:20270105T235900
UID:2611096611-20270105T000000@VHSRAUM BAD BOLL/VORALB
SUMMARY:Reise: Vietnam (2611096611) 
LOCATION:Reise, , 
END:VEVENT
BEGIN:VEVENT
DTSTAMP:20260423T103749
DTSTART;TZID=Europe/Berlin:20270106T000000
DTEND;TZID=Europe/Berlin:20270106T235900
UID:2611096611-20270106T000000@VHSRAUM BAD BOLL/VORALB
SUMMARY:Reise: Vietnam (2611096611) 
LOCATION:Reise, , 
END:VEVENT
BEGIN:VEVENT
DTSTAMP:20260423T103749
DTSTART;TZID=Europe/Berlin:20270107T000000
DTEND;TZID=Europe/Berlin:20270107T235900
UID:2611096611-20270107T000000@VHSRAUM BAD BOLL/VORALB
SUMMARY:Reise: Vietnam (2611096611) 
LOCATION:Reise, , 
END:VEVENT
BEGIN:VEVENT
DTSTAMP:20260423T103749
DTSTART;TZID=Europe/Berlin:20270108T000000
DTEND;TZID=Europe/Berlin:20270108T235900
UID:2611096611-20270108T000000@VHSRAUM BAD BOLL/VORALB
SUMMARY:Reise: Vietnam (2611096611) 
LOCATION:Reise, , 
END:VEVENT
BEGIN:VEVENT
DTSTAMP:20260423T103749
DTSTART;TZID=Europe/Berlin:20270109T000000
DTEND;TZID=Europe/Berlin:20270109T235900
UID:2611096611-20270109T000000@VHSRAUM BAD BOLL/VORALB
SUMMARY:Reise: Vietnam (2611096611) 
LOCATION:Reise, , 
END:VEVENT
BEGIN:VEVENT
DTSTAMP:20260423T103749
DTSTART;TZID=Europe/Berlin:20270110T000000
DTEND;TZID=Europe/Berlin:20270110T235900
UID:2611096611-20270110T000000@VHSRAUM BAD BOLL/VORALB
SUMMARY:Reise: Vietnam (2611096611) 
LOCATION:Reise, , 
END:VEVENT
BEGIN:VEVENT
DTSTAMP:20260423T103749
DTSTART;TZID=Europe/Berlin:20270111T000000
DTEND;TZID=Europe/Berlin:20270111T235900
UID:2611096611-20270111T000000@VHSRAUM BAD BOLL/VORALB
SUMMARY:Reise: Vietnam (2611096611) 
LOCATION:Reise, , 
END:VEVENT
BEGIN:VEVENT
DTSTAMP:20260423T103749
DTSTART;TZID=Europe/Berlin:20270112T000000
DTEND;TZID=Europe/Berlin:20270112T235900
UID:2611096611-20270112T000000@VHSRAUM BAD BOLL/VORALB
SUMMARY:Reise: Vietnam (2611096611) 
LOCATION:Reise, , 
END:VEVENT
BEGIN:VEVENT
DTSTAMP:20260423T103749
DTSTART;TZID=Europe/Berlin:20270113T000000
DTEND;TZID=Europe/Berlin:20270113T235900
UID:2611096611-20270113T000000@VHSRAUM BAD BOLL/VORALB
SUMMARY:Reise: Vietnam (2611096611) 
LOCATION:Reise, , 
END:VEVENT
BEGIN:VEVENT
DTSTAMP:20260423T103749
DTSTART;TZID=Europe/Berlin:20270114T000000
DTEND;TZID=Europe/Berlin:20270114T235900
UID:2611096611-20270114T000000@VHSRAUM BAD BOLL/VORALB
SUMMARY:Reise: Vietnam (2611096611) 
LOCATION:Reise, , 
END:VEVENT
BEGIN:VEVENT
DTSTAMP:20260423T103749
DTSTART;TZID=Europe/Berlin:20270115T000000
DTEND;TZID=Europe/Berlin:20270115T235900
UID:2611096611-20270115T000000@VHSRAUM BAD BOLL/VORALB
SUMMARY:Reise: Vietnam (2611096611) 
LOCATION:Reise, , 
END:VEVENT
BEGIN:VEVENT
DTSTAMP:20260423T103749
DTSTART;TZID=Europe/Berlin:20270116T000000
DTEND;TZID=Europe/Berlin:20270116T235900
UID:2611096611-20270116T000000@VHSRAUM BAD BOLL/VORALB
SUMMARY:Reise: Vietnam (2611096611) 
LOCATION:Reise, , 
END:VEVENT
BEGIN:VEVENT
DTSTAMP:20260423T103749
DTSTART;TZID=Europe/Berlin:20270117T000000
DTEND;TZID=Europe/Berlin:20270117T235900
UID:2611096611-20270117T000000@VHSRAUM BAD BOLL/VORALB
SUMMARY:Reise: Vietnam (2611096611) 
LOCATION:Reise, , 
END:VEVENT
BEGIN:VEVENT
DTSTAMP:20260423T103749
DTSTART;TZID=Europe/Berlin:20270118T000000
DTEND;TZID=Europe/Berlin:20270118T235900
UID:2611096611-20270118T000000@VHSRAUM BAD BOLL/VORALB
SUMMARY:Reise: Vietnam (2611096611) 
LOCATION:Reise, , 
END:VEVENT
BEGIN:VEVENT
DTSTAMP:20260423T103749
DTSTART;TZID=Europe/Berlin:20270119T000000
DTEND;TZID=Europe/Berlin:20270119T235900
UID:2611096611-20270119T000000@VHSRAUM BAD BOLL/VORALB
SUMMARY:Reise: Vietnam (2611096611) 
LOCATION:Reise, , 
END:VEVENT
END:VCALENDAR